BEGIN:VCALENDAR
VERSION:2.0
PRODID:-//Friends Forever Colorado - ECPv6.15.20//NONSGML v1.0//EN
CALSCALE:GREGORIAN
METHOD:PUBLISH
X-WR-CALNAME:Friends Forever Colorado
X-ORIGINAL-URL:https://friendsforevercolorado.org
X-WR-CALDESC:Events for Friends Forever Colorado
REFRESH-INTERVAL;VALUE=DURATION:PT1H
X-Robots-Tag:noindex
X-PUBLISHED-TTL:PT1H
BEGIN:VTIMEZONE
TZID:America/Denver
BEGIN:DAYLIGHT
TZOFFSETFROM:-0700
TZOFFSETTO:-0600
TZNAME:MDT
DTSTART:20180311T090000
END:DAYLIGHT
BEGIN:STANDARD
TZOFFSETFROM:-0600
TZOFFSETTO:-0700
TZNAME:MST
DTSTART:20181104T080000
END:STANDARD
BEGIN:DAYLIGHT
TZOFFSETFROM:-0700
TZOFFSETTO:-0600
TZNAME:MDT
DTSTART:20190310T090000
END:DAYLIGHT
BEGIN:STANDARD
TZOFFSETFROM:-0600
TZOFFSETTO:-0700
TZNAME:MST
DTSTART:20191103T080000
END:STANDARD
BEGIN:DAYLIGHT
TZOFFSETFROM:-0700
TZOFFSETTO:-0600
TZNAME:MDT
DTSTART:20200308T090000
END:DAYLIGHT
BEGIN:STANDARD
TZOFFSETFROM:-0600
TZOFFSETTO:-0700
TZNAME:MST
DTSTART:20201101T080000
END:STANDARD
BEGIN:DAYLIGHT
TZOFFSETFROM:-0700
TZOFFSETTO:-0600
TZNAME:MDT
DTSTART:20210314T090000
END:DAYLIGHT
BEGIN:STANDARD
TZOFFSETFROM:-0600
TZOFFSETTO:-0700
TZNAME:MST
DTSTART:20211107T080000
END:STANDARD
BEGIN:DAYLIGHT
TZOFFSETFROM:-0700
TZOFFSETTO:-0600
TZNAME:MDT
DTSTART:20220313T090000
END:DAYLIGHT
BEGIN:STANDARD
TZOFFSETFROM:-0600
TZOFFSETTO:-0700
TZNAME:MST
DTSTART:20221106T080000
END:STANDARD
END:VTIMEZONE
BEGIN:VEVENT
DTSTART;TZID=America/Denver:20210917T180000
DTEND;TZID=America/Denver:20210917T210000
DTSTAMP:20260419T183441
CREATED:20210630T182504Z
LAST-MODIFIED:20210630T182504Z
UID:10000130-1631901600-1631912400@friendsforevercolorado.org
SUMMARY:Night to Shine 2021!
DESCRIPTION:Rocky Church is thrilled to announce that registration for our Shine Prom opens TODAY!\nAll the things you love about Rocky’s Night To Shine is returning this September 17th from 6:00 – 9:00pm\, plus a few more surprises! We are so excited to host our very own in-person prom just for YOU – our honored guest.\nWe’re also excited to be able to host even more Shine guests this year as we’re throwing this giant party at both of our church campuses. We’ll be in Frederick again this year (5860 Majestic St) as well as at our Niwot campus (9447 Niwot Road). All the food\, fun\, games\, flowers\, red carpet\, new friends and dancing that you love – it’ll all be there. We just need YOU to sign up.\nYou can do that here: https://rocky.churchcenter.com/unproxy/registrations/events/862784
URL:https://friendsforevercolorado.org/event/night-to-shine-2021/
LOCATION:Rocky Mountain Christian Church\, 5860 Majestic Street\, Frederick\, CO\, 80504\, United States
CATEGORIES:Shine,Special Events
ATTACH;FMTTYPE=:
END:VEVENT
BEGIN:VEVENT
DTSTART;TZID=America/Denver:20190208T180000
DTEND;TZID=America/Denver:20190208T210000
DTSTAMP:20260419T183441
CREATED:20190122T030535Z
LAST-MODIFIED:20190122T030535Z
UID:10000012-1549648800-1549659600@friendsforevercolorado.org
SUMMARY:Night To Shine!
DESCRIPTION:Night To Shine\n\n\nFebruary 8\, 2019 // 6:00 pm – 9:00 pm // Frederick Campus \n\nNight to Shine is an unforgettable prom night experience\, centered on God’s love\, for people with special needs\, ages 14 and older. The event will take place at more than 500 churches around the world simultaneously on February 8\, 2019. Our Frederick Campus is located at 5860 Majestic Street in Frederick.\n\nTo learn more and see all the churches that are a part of this worldwide movement\, check out www.timtebowfoundation.org.
URL:https://friendsforevercolorado.org/event/night-to-shine/
LOCATION:Rocky Mountain Christian Church\, 5860 Majestic Street\, Frederick\, CO\, 80504\, United States
CATEGORIES:Shine
ATTACH;FMTTYPE=:
ORGANIZER;CN="Jen Street":MAILTO:jenstreet70@gmail.com
END:VEVENT
END:VCALENDAR