BEGIN:VCALENDAR
VERSION:2.0
PRODID:-//Friends Forever Colorado - ECPv6.15.20//NONSGML v1.0//EN
CALSCALE:GREGORIAN
METHOD:PUBLISH
X-ORIGINAL-URL:https://friendsforevercolorado.org
X-WR-CALDESC:Events for Friends Forever Colorado
REFRESH-INTERVAL;VALUE=DURATION:PT1H
X-Robots-Tag:noindex
X-PUBLISHED-TTL:PT1H
BEGIN:VTIMEZONE
TZID:UTC
BEGIN:STANDARD
TZOFFSETFROM:+0000
TZOFFSETTO:+0000
TZNAME:UTC
DTSTART:20180101T000000
END:STANDARD
END:VTIMEZONE
BEGIN:VEVENT
DTSTART;TZID=UTC:20200507T180000
DTEND;TZID=UTC:20200507T191500
DTSTAMP:20260419T061723
CREATED:20190819T215752Z
LAST-MODIFIED:20190819T215752Z
UID:10000047-1588874400-1588878900@friendsforevercolorado.org
SUMMARY:POSTPONED - Thursday Night Small Group Bible Study (Thornton)
DESCRIPTION:Please join us for dinner and fun while we study from the Jesus Story Bible. This meetup happens twice per month.
URL:https://friendsforevercolorado.org/event/thursday-night-small-group-bible-study-thornton-2019-01-31-2019-05-09-2-2019-11-21-2020-05-07/
LOCATION:IHOP – Northglenn\, 221 W 104th Avenue\, Northglenn\, CO\, 80234\, United States
CATEGORIES:Bible Study
END:VEVENT
BEGIN:VEVENT
DTSTART;TZID=UTC:20200416T180000
DTEND;TZID=UTC:20200416T191500
DTSTAMP:20260419T061724
CREATED:20190819T215752Z
LAST-MODIFIED:20190819T215752Z
UID:10000046-1587060000-1587064500@friendsforevercolorado.org
SUMMARY:POSTPONED - Thursday Night Small Group Bible Study (Thornton)
DESCRIPTION:Please join us for dinner and fun while we study from the Jesus Story Bible. This meetup happens twice per month.
URL:https://friendsforevercolorado.org/event/thursday-night-small-group-bible-study-thornton-2019-01-31-2019-05-09-2-2019-11-21-2020-04-16/
LOCATION:IHOP – Northglenn\, 221 W 104th Avenue\, Northglenn\, CO\, 80234\, United States
CATEGORIES:Bible Study
END:VEVENT
BEGIN:VEVENT
DTSTART;TZID=UTC:20200402T180000
DTEND;TZID=UTC:20200402T191500
DTSTAMP:20260419T061724
CREATED:20190819T215752Z
LAST-MODIFIED:20190819T215752Z
UID:10000045-1585850400-1585854900@friendsforevercolorado.org
SUMMARY:POSTPONED - Thursday Night Small Group Bible Study (Thornton)
DESCRIPTION:Please join us for dinner and fun while we study from the Jesus Story Bible. This meetup happens twice per month.
URL:https://friendsforevercolorado.org/event/thursday-night-small-group-bible-study-thornton-2019-01-31-2019-05-09-2-2019-11-21-2020-04-02/
LOCATION:IHOP – Northglenn\, 221 W 104th Avenue\, Northglenn\, CO\, 80234\, United States
CATEGORIES:Bible Study
END:VEVENT
BEGIN:VEVENT
DTSTART;TZID=UTC:20200319T180000
DTEND;TZID=UTC:20200319T191500
DTSTAMP:20260419T061724
CREATED:20190819T215752Z
LAST-MODIFIED:20190819T215752Z
UID:10000044-1584640800-1584645300@friendsforevercolorado.org
SUMMARY:POSTPONED - Thursday Night Small Group Bible Study (Thornton)
DESCRIPTION:Please join us for dinner and fun while we study from the Jesus Story Bible. This meetup happens twice per month.
URL:https://friendsforevercolorado.org/event/thursday-night-small-group-bible-study-thornton-2019-01-31-2019-05-09-2-2019-11-21-2020-03-19/
LOCATION:IHOP – Northglenn\, 221 W 104th Avenue\, Northglenn\, CO\, 80234\, United States
CATEGORIES:Bible Study
END:VEVENT
BEGIN:VEVENT
DTSTART;TZID=UTC:20191121T180000
DTEND;TZID=UTC:20191121T191500
DTSTAMP:20260419T061724
CREATED:20190819T215752Z
LAST-MODIFIED:20190819T215752Z
UID:10000043-1574359200-1574363700@friendsforevercolorado.org
SUMMARY:Thursday Night Small Group Bible Study (Thornton)
DESCRIPTION:Please join us for dinner and fun while we study from the Jesus Story Bible. This meetup happens twice per month.
URL:https://friendsforevercolorado.org/event/thursday-night-small-group-bible-study-thornton-2019-01-31-2019-05-09-2-2019-11-21/2019-11-21/
LOCATION:IHOP – Northglenn\, 221 W 104th Avenue\, Northglenn\, CO\, 80234\, United States
CATEGORIES:Bible Study
END:VEVENT
END:VCALENDAR