BEGIN:VCALENDAR
VERSION:2.0
PRODID:-//Friends Forever Colorado - ECPv6.15.20//NONSGML v1.0//EN
CALSCALE:GREGORIAN
METHOD:PUBLISH
X-ORIGINAL-URL:https://friendsforevercolorado.org
X-WR-CALDESC:Events for Friends Forever Colorado
REFRESH-INTERVAL;VALUE=DURATION:PT1H
X-Robots-Tag:noindex
X-PUBLISHED-TTL:PT1H
BEGIN:VTIMEZONE
TZID:America/Denver
BEGIN:DAYLIGHT
TZOFFSETFROM:-0700
TZOFFSETTO:-0600
TZNAME:MDT
DTSTART:20230312T090000
END:DAYLIGHT
BEGIN:STANDARD
TZOFFSETFROM:-0600
TZOFFSETTO:-0700
TZNAME:MST
DTSTART:20231105T080000
END:STANDARD
BEGIN:DAYLIGHT
TZOFFSETFROM:-0700
TZOFFSETTO:-0600
TZNAME:MDT
DTSTART:20240310T090000
END:DAYLIGHT
BEGIN:STANDARD
TZOFFSETFROM:-0600
TZOFFSETTO:-0700
TZNAME:MST
DTSTART:20241103T080000
END:STANDARD
BEGIN:DAYLIGHT
TZOFFSETFROM:-0700
TZOFFSETTO:-0600
TZNAME:MDT
DTSTART:20250309T090000
END:DAYLIGHT
BEGIN:STANDARD
TZOFFSETFROM:-0600
TZOFFSETTO:-0700
TZNAME:MST
DTSTART:20251102T080000
END:STANDARD
END:VTIMEZONE
BEGIN:VEVENT
DTSTART;TZID=America/Denver:20240718T180000
DTEND;TZID=America/Denver:20240718T210000
DTSTAMP:20260419T061208
CREATED:20240708T232824Z
LAST-MODIFIED:20240708T232824Z
UID:10000187-1721325600-1721336400@friendsforevercolorado.org
SUMMARY:Bowling at Chippers!
DESCRIPTION:Join us for a night of bowling fun at Chippers Lanes!
URL:https://friendsforevercolorado.org/event/bowling-at-chippers/
LOCATION:Chipper Lanes\, 100 Nickel Street\, Broomfield\, 80020
CATEGORIES:Field Trips
ATTACH;FMTTYPE=:
END:VEVENT
BEGIN:VEVENT
DTSTART;TZID=America/Denver:20240614T190000
DTEND;TZID=America/Denver:20240614T220000
DTSTAMP:20260419T061208
CREATED:20240530T171342Z
LAST-MODIFIED:20240530T171342Z
UID:10000186-1718391600-1718402400@friendsforevercolorado.org
SUMMARY:Field Trip - Minions: Rise of Gru
DESCRIPTION:We will be having our first summer outing on June 14th 7pm to see Minions:The Rise of Gru at Westminster High School. Please meet out front of the school at 6pm. ***Please note that leaders can no longer provide transportation to and from events.*** \n\n\n\nThings to bring: Snacks\, drinks\, blankets\, jacket\, lawn chairs. \n\n\n\nPick up time is 10pm. I will stay until everyone is picked up!  \n\n\n\n***Clubbers need to stay with the group or have a leader with them at all times *** \n\n\n\nWe could always use parents/caregivers for this event! More eyes means safer environment! 
URL:https://friendsforevercolorado.org/event/field-trip-minions-rise-of-gru/
ATTACH;FMTTYPE=:
END:VEVENT
BEGIN:VEVENT
DTSTART;TZID=America/Denver:20240531T180000
DTEND;TZID=America/Denver:20240531T200000
DTSTAMP:20260419T061208
CREATED:20240530T170644Z
LAST-MODIFIED:20240530T170644Z
UID:10000185-1717178400-1717185600@friendsforevercolorado.org
SUMMARY:BBQ and Caregiver/Parent Meeting
DESCRIPTION:We will be having a year end BBQ this Friday\, May 31st from 6-8pm. Our theme will be “having fun” We will have BBQ food potluck\, and a night of games! We will have a quick devotional and more games!  \n\n\n\n****CAREGIVERS/PARENTS: WE ARE ASKING FOR YOU TO ATTEND  A MEETING ABOUT CLUB AND OPPORTUNITIES COMING UP. This meeting will be done while your clubber is at our BBQ! PLEASE SEE ATTACHED AGENDA for this important meeting!****
URL:https://friendsforevercolorado.org/event/bbq-and-caregiver-parent-meeting/
LOCATION:Broomfield Community Church\, 255 Miramonte Blvd.\, Broomfield\, Colorado\, 80020
END:VEVENT
BEGIN:VEVENT
DTSTART;TZID=America/Denver:20240419T180000
DTEND;TZID=America/Denver:20240419T200000
DTSTAMP:20260419T061208
CREATED:20240307T191030Z
LAST-MODIFIED:20240307T191030Z
UID:10000184-1713549600-1713556800@friendsforevercolorado.org
SUMMARY:Club Night - Resting in the Lord!
DESCRIPTION:Our theme will be resting in the Lord\, so please feel free to wear your pajamas for club night! We will have game time\, songs\, Bible study. And of course\, a meal prepared by CJ and his Mom! 
URL:https://friendsforevercolorado.org/event/club-night-22/
LOCATION:Broomfield Community Church\, 255 Miramonte Blvd.\, Broomfield\, Colorado\, 80020
CATEGORIES:Club Night
END:VEVENT
BEGIN:VEVENT
DTSTART;TZID=America/Denver:20240405T180000
DTEND;TZID=America/Denver:20240405T200000
DTSTAMP:20260419T061208
CREATED:20240307T190807Z
LAST-MODIFIED:20240307T190807Z
UID:10000183-1712340000-1712347200@friendsforevercolorado.org
SUMMARY:Club Night!
DESCRIPTION:Join us for Club Night where we gather for food\, fun and fellowship!
URL:https://friendsforevercolorado.org/event/club-night-21/
LOCATION:Broomfield Community Church\, 255 Miramonte Blvd.\, Broomfield\, Colorado\, 80020
CATEGORIES:Club Night
END:VEVENT
BEGIN:VEVENT
DTSTART;TZID=America/Denver:20240322T180000
DTEND;TZID=America/Denver:20240322T200000
DTSTAMP:20260419T061208
CREATED:20240307T190201Z
LAST-MODIFIED:20240307T190201Z
UID:10000182-1711130400-1711137600@friendsforevercolorado.org
SUMMARY:Club Night - Sports!
DESCRIPTION:We will be having a club this Friday\, March 22nd. We will be having the usual dinner\, songs\, Bible study\, and games. Please bring a gues! They can be anybody you know whether they are caregivers\, peers\, or someone you would like to see be a part of our program. \n\n\n\nWe are anxious to see who brings a friend! Also\, we are going to start having themes for each club. \n\n\n\nThis week the theme is sports\, all sports. \n\n\n\nBible study will be about sportsmanship and how God can work in us through sports that we like or do.
URL:https://friendsforevercolorado.org/event/club-night-20/
LOCATION:Broomfield Community Church\, 255 Miramonte Blvd.\, Broomfield\, Colorado\, 80020
CATEGORIES:Club Night
ATTACH;FMTTYPE=:
END:VEVENT
BEGIN:VEVENT
DTSTART;TZID=America/Denver:20240202T180000
DTEND;TZID=America/Denver:20240202T200000
DTSTAMP:20260419T061208
CREATED:20231229T181959Z
LAST-MODIFIED:20231229T181959Z
UID:10000180-1706896800-1706904000@friendsforevercolorado.org
SUMMARY:Club Night!
DESCRIPTION:Join us for Club Night where we gather for food\, fun and fellowship!
URL:https://friendsforevercolorado.org/event/club-night-18/
END:VEVENT
BEGIN:VEVENT
DTSTART;TZID=America/Denver:20240119T180000
DTEND;TZID=America/Denver:20240119T200000
DTSTAMP:20260419T061208
CREATED:20231229T175019Z
LAST-MODIFIED:20231229T175019Z
UID:10000178-1705687200-1705694400@friendsforevercolorado.org
SUMMARY:Club Night - What Fruit are You?
DESCRIPTION:We will be having club this Friday 1/19/24! We will have sloppy joes\, salad\, fruit\, etc. Of course\, there will be songs\, games\, and a Bible Study on fruits of the spirit. Please read Galatians 5:16-26. Please come prepared to share what fruit you are! 
URL:https://friendsforevercolorado.org/event/club-night-17/
LOCATION:Broomfield Community Church\, 255 Miramonte Blvd.\, Broomfield\, Colorado\, 80020
END:VEVENT
END:VCALENDAR