BEGIN:VCALENDAR
VERSION:2.0
PRODID:-//Friends Forever Colorado - ECPv6.15.20//NONSGML v1.0//EN
CALSCALE:GREGORIAN
METHOD:PUBLISH
X-WR-CALNAME:Friends Forever Colorado
X-ORIGINAL-URL:https://friendsforevercolorado.org
X-WR-CALDESC:Events for Friends Forever Colorado
REFRESH-INTERVAL;VALUE=DURATION:PT1H
X-Robots-Tag:noindex
X-PUBLISHED-TTL:PT1H
BEGIN:VTIMEZONE
TZID:America/Denver
BEGIN:DAYLIGHT
TZOFFSETFROM:-0700
TZOFFSETTO:-0600
TZNAME:MDT
DTSTART:20210314T090000
END:DAYLIGHT
BEGIN:STANDARD
TZOFFSETFROM:-0600
TZOFFSETTO:-0700
TZNAME:MST
DTSTART:20211107T080000
END:STANDARD
BEGIN:DAYLIGHT
TZOFFSETFROM:-0700
TZOFFSETTO:-0600
TZNAME:MDT
DTSTART:20220313T090000
END:DAYLIGHT
BEGIN:STANDARD
TZOFFSETFROM:-0600
TZOFFSETTO:-0700
TZNAME:MST
DTSTART:20221106T080000
END:STANDARD
BEGIN:DAYLIGHT
TZOFFSETFROM:-0700
TZOFFSETTO:-0600
TZNAME:MDT
DTSTART:20230312T090000
END:DAYLIGHT
BEGIN:STANDARD
TZOFFSETFROM:-0600
TZOFFSETTO:-0700
TZNAME:MST
DTSTART:20231105T080000
END:STANDARD
BEGIN:DAYLIGHT
TZOFFSETFROM:-0700
TZOFFSETTO:-0600
TZNAME:MDT
DTSTART:20240310T090000
END:DAYLIGHT
BEGIN:STANDARD
TZOFFSETFROM:-0600
TZOFFSETTO:-0700
TZNAME:MST
DTSTART:20241103T080000
END:STANDARD
BEGIN:DAYLIGHT
TZOFFSETFROM:-0700
TZOFFSETTO:-0600
TZNAME:MDT
DTSTART:20250309T090000
END:DAYLIGHT
BEGIN:STANDARD
TZOFFSETFROM:-0600
TZOFFSETTO:-0700
TZNAME:MST
DTSTART:20251102T080000
END:STANDARD
END:VTIMEZONE
BEGIN:VEVENT
DTSTART;TZID=America/Denver:20240718T180000
DTEND;TZID=America/Denver:20240718T210000
DTSTAMP:20260421T131507
CREATED:20240708T232824Z
LAST-MODIFIED:20240708T232824Z
UID:10000187-1721325600-1721336400@friendsforevercolorado.org
SUMMARY:Bowling at Chippers!
DESCRIPTION:Join us for a night of bowling fun at Chippers Lanes!
URL:https://friendsforevercolorado.org/event/bowling-at-chippers/
LOCATION:Chipper Lanes\, 100 Nickel Street\, Broomfield\, 80020
CATEGORIES:Field Trips
ATTACH;FMTTYPE=:
END:VEVENT
BEGIN:VEVENT
DTSTART;TZID=America/Denver:20240614T190000
DTEND;TZID=America/Denver:20240614T220000
DTSTAMP:20260421T131507
CREATED:20240530T171342Z
LAST-MODIFIED:20240530T171342Z
UID:10000186-1718391600-1718402400@friendsforevercolorado.org
SUMMARY:Field Trip - Minions: Rise of Gru
DESCRIPTION:We will be having our first summer outing on June 14th 7pm to see Minions:The Rise of Gru at Westminster High School. Please meet out front of the school at 6pm. ***Please note that leaders can no longer provide transportation to and from events.*** \n\n\n\nThings to bring: Snacks\, drinks\, blankets\, jacket\, lawn chairs. \n\n\n\nPick up time is 10pm. I will stay until everyone is picked up!  \n\n\n\n***Clubbers need to stay with the group or have a leader with them at all times *** \n\n\n\nWe could always use parents/caregivers for this event! More eyes means safer environment! 
URL:https://friendsforevercolorado.org/event/field-trip-minions-rise-of-gru/
ATTACH;FMTTYPE=:
END:VEVENT
BEGIN:VEVENT
DTSTART;TZID=America/Denver:20240531T180000
DTEND;TZID=America/Denver:20240531T200000
DTSTAMP:20260421T131507
CREATED:20240530T170644Z
LAST-MODIFIED:20240530T170644Z
UID:10000185-1717178400-1717185600@friendsforevercolorado.org
SUMMARY:BBQ and Caregiver/Parent Meeting
DESCRIPTION:We will be having a year end BBQ this Friday\, May 31st from 6-8pm. Our theme will be “having fun” We will have BBQ food potluck\, and a night of games! We will have a quick devotional and more games!  \n\n\n\n****CAREGIVERS/PARENTS: WE ARE ASKING FOR YOU TO ATTEND  A MEETING ABOUT CLUB AND OPPORTUNITIES COMING UP. This meeting will be done while your clubber is at our BBQ! PLEASE SEE ATTACHED AGENDA for this important meeting!****
URL:https://friendsforevercolorado.org/event/bbq-and-caregiver-parent-meeting/
LOCATION:Broomfield Community Church\, 255 Miramonte Blvd.\, Broomfield\, Colorado\, 80020
END:VEVENT
BEGIN:VEVENT
DTSTART;TZID=America/Denver:20240419T180000
DTEND;TZID=America/Denver:20240419T200000
DTSTAMP:20260421T131507
CREATED:20240307T191030Z
LAST-MODIFIED:20240307T191030Z
UID:10000184-1713549600-1713556800@friendsforevercolorado.org
SUMMARY:Club Night - Resting in the Lord!
DESCRIPTION:Our theme will be resting in the Lord\, so please feel free to wear your pajamas for club night! We will have game time\, songs\, Bible study. And of course\, a meal prepared by CJ and his Mom! 
URL:https://friendsforevercolorado.org/event/club-night-22/
LOCATION:Broomfield Community Church\, 255 Miramonte Blvd.\, Broomfield\, Colorado\, 80020
CATEGORIES:Club Night
END:VEVENT
BEGIN:VEVENT
DTSTART;TZID=America/Denver:20240405T180000
DTEND;TZID=America/Denver:20240405T200000
DTSTAMP:20260421T131507
CREATED:20240307T190807Z
LAST-MODIFIED:20240307T190807Z
UID:10000183-1712340000-1712347200@friendsforevercolorado.org
SUMMARY:Club Night!
DESCRIPTION:Join us for Club Night where we gather for food\, fun and fellowship!
URL:https://friendsforevercolorado.org/event/club-night-21/
LOCATION:Broomfield Community Church\, 255 Miramonte Blvd.\, Broomfield\, Colorado\, 80020
CATEGORIES:Club Night
END:VEVENT
BEGIN:VEVENT
DTSTART;TZID=America/Denver:20240322T180000
DTEND;TZID=America/Denver:20240322T200000
DTSTAMP:20260421T131507
CREATED:20240307T190201Z
LAST-MODIFIED:20240307T190201Z
UID:10000182-1711130400-1711137600@friendsforevercolorado.org
SUMMARY:Club Night - Sports!
DESCRIPTION:We will be having a club this Friday\, March 22nd. We will be having the usual dinner\, songs\, Bible study\, and games. Please bring a gues! They can be anybody you know whether they are caregivers\, peers\, or someone you would like to see be a part of our program. \n\n\n\nWe are anxious to see who brings a friend! Also\, we are going to start having themes for each club. \n\n\n\nThis week the theme is sports\, all sports. \n\n\n\nBible study will be about sportsmanship and how God can work in us through sports that we like or do.
URL:https://friendsforevercolorado.org/event/club-night-20/
LOCATION:Broomfield Community Church\, 255 Miramonte Blvd.\, Broomfield\, Colorado\, 80020
CATEGORIES:Club Night
ATTACH;FMTTYPE=:
END:VEVENT
BEGIN:VEVENT
DTSTART;TZID=America/Denver:20240229T160000
DTEND;TZID=America/Denver:20240303T120000
DTSTAMP:20260421T131507
CREATED:20231229T180516Z
LAST-MODIFIED:20231229T180516Z
UID:10000179-1709222400-1709467200@friendsforevercolorado.org
SUMMARY:Winter Camp!
DESCRIPTION:Spot are still available for winter camp. Please reach out to Tamara Kissinger for forms and details. \n\n\n\n\n\n\n\nSnow Mountain Ranch1101 Co Rd 53\, Granby\, CO 80446
URL:https://friendsforevercolorado.org/event/winter-camp-3/
END:VEVENT
BEGIN:VEVENT
DTSTART;TZID=America/Denver:20240216T180000
DTEND;TZID=America/Denver:20240216T200000
DTSTAMP:20260421T131507
CREATED:20240214T184419Z
LAST-MODIFIED:20240214T184419Z
UID:10000181-1708106400-1708113600@friendsforevercolorado.org
SUMMARY:Club Night!
DESCRIPTION:We will be having club night this Friday. We will have our typical night of food\, fun\, games\, music\, bible study!
URL:https://friendsforevercolorado.org/event/club-night-19/
LOCATION:Broomfield Community Church\, 255 Miramonte Blvd.\, Broomfield\, Colorado\, 80020
END:VEVENT
BEGIN:VEVENT
DTSTART;TZID=America/Denver:20240202T180000
DTEND;TZID=America/Denver:20240202T200000
DTSTAMP:20260421T131507
CREATED:20231229T181959Z
LAST-MODIFIED:20231229T181959Z
UID:10000180-1706896800-1706904000@friendsforevercolorado.org
SUMMARY:Club Night!
DESCRIPTION:Join us for Club Night where we gather for food\, fun and fellowship!
URL:https://friendsforevercolorado.org/event/club-night-18/
END:VEVENT
BEGIN:VEVENT
DTSTART;TZID=America/Denver:20240119T180000
DTEND;TZID=America/Denver:20240119T200000
DTSTAMP:20260421T131507
CREATED:20231229T175019Z
LAST-MODIFIED:20231229T175019Z
UID:10000178-1705687200-1705694400@friendsforevercolorado.org
SUMMARY:Club Night - What Fruit are You?
DESCRIPTION:We will be having club this Friday 1/19/24! We will have sloppy joes\, salad\, fruit\, etc. Of course\, there will be songs\, games\, and a Bible Study on fruits of the spirit. Please read Galatians 5:16-26. Please come prepared to share what fruit you are! 
URL:https://friendsforevercolorado.org/event/club-night-17/
LOCATION:Broomfield Community Church\, 255 Miramonte Blvd.\, Broomfield\, Colorado\, 80020
END:VEVENT
BEGIN:VEVENT
DTSTART;TZID=America/Denver:20240105T180000
DTEND;TZID=America/Denver:20240105T200000
DTSTAMP:20260421T131507
CREATED:20231229T172648Z
LAST-MODIFIED:20231229T172648Z
UID:10000177-1704477600-1704484800@friendsforevercolorado.org
SUMMARY:Club Night!
DESCRIPTION:Join us for Club Night where we gather for food\, fun and fellowship!
URL:https://friendsforevercolorado.org/event/club-night-16/
LOCATION:Broomfield Community Church\, 255 Miramonte Blvd.\, Broomfield\, Colorado\, 80020
END:VEVENT
BEGIN:VEVENT
DTSTART;TZID=America/Denver:20231215T180000
DTEND;TZID=America/Denver:20231215T200000
DTSTAMP:20260421T131507
CREATED:20231122T125856Z
LAST-MODIFIED:20231122T125856Z
UID:10000176-1702663200-1702670400@friendsforevercolorado.org
SUMMARY:Club Night - Christmas Club!
DESCRIPTION:Please join us for our annual Christmas Club! Bring a $10 wrapped gift for the white elephant exchange and bring a snack to share!
URL:https://friendsforevercolorado.org/event/club-night-christmas-club-2/
CATEGORIES:Club Night,Special Events
ATTACH;FMTTYPE=:
END:VEVENT
BEGIN:VEVENT
DTSTART;TZID=America/Denver:20231208T180000
DTEND;TZID=America/Denver:20231208T200000
DTSTAMP:20260421T131507
CREATED:20231120T211720Z
LAST-MODIFIED:20231120T211720Z
UID:10000175-1702058400-1702065600@friendsforevercolorado.org
SUMMARY:Club Night!
DESCRIPTION:Join us for a night fellowship and food and praise!
URL:https://friendsforevercolorado.org/event/club-night-15/
LOCATION:Broomfield Community Church\, 255 Miramonte Blvd.\, Broomfield\, Colorado\, 80020
CATEGORIES:Club Night
END:VEVENT
BEGIN:VEVENT
DTSTART;TZID=America/Denver:20230519T180000
DTEND;TZID=America/Denver:20230519T200000
DTSTAMP:20260421T131507
CREATED:20230301T155628Z
LAST-MODIFIED:20230301T155628Z
UID:10000174-1684519200-1684526400@friendsforevercolorado.org
SUMMARY:Club Night!
DESCRIPTION:Please join us for a night of fun\, food and fellowship! \nTheme\, TBD. \n**Also we are looking for some help with our Club meals- this could be anything from providing the meal or drinks or dessert or just helping serve- below is a link to the sign up sheet for the next few months- if your interested please pick a date and what you would like to help with and send it back my way (dbake1342@gmail.com) \nClick Here for Meals Sign Up!
URL:https://friendsforevercolorado.org/event/club-night-14/2023-05-19/
LOCATION:Broomfield Community Church\, 255 Miramonte Blvd.\, Broomfield\, Colorado\, 80020
CATEGORIES:Club Night
END:VEVENT
BEGIN:VEVENT
DTSTART;TZID=America/Denver:20230505T180000
DTEND;TZID=America/Denver:20230505T200000
DTSTAMP:20260421T131507
CREATED:20230301T155628Z
LAST-MODIFIED:20230301T155628Z
UID:10000173-1683309600-1683316800@friendsforevercolorado.org
SUMMARY:Club Night!
DESCRIPTION:Please join us for a night of fun\, food and fellowship! \nTheme\, TBD. \n**Also we are looking for some help with our Club meals- this could be anything from providing the meal or drinks or dessert or just helping serve- below is a link to the sign up sheet for the next few months- if your interested please pick a date and what you would like to help with and send it back my way (dbake1342@gmail.com) \nClick Here for Meals Sign Up!
URL:https://friendsforevercolorado.org/event/club-night-14/2023-05-05/
LOCATION:Broomfield Community Church\, 255 Miramonte Blvd.\, Broomfield\, Colorado\, 80020
CATEGORIES:Club Night
END:VEVENT
BEGIN:VEVENT
DTSTART;TZID=America/Denver:20230421T180000
DTEND;TZID=America/Denver:20230421T200000
DTSTAMP:20260421T131507
CREATED:20230301T155628Z
LAST-MODIFIED:20230301T155628Z
UID:10000172-1682100000-1682107200@friendsforevercolorado.org
SUMMARY:Club Night!
DESCRIPTION:Please join us for a night of fun\, food and fellowship! \nTheme\, TBD. \n**Also we are looking for some help with our Club meals- this could be anything from providing the meal or drinks or dessert or just helping serve- below is a link to the sign up sheet for the next few months- if your interested please pick a date and what you would like to help with and send it back my way (dbake1342@gmail.com) \nClick Here for Meals Sign Up!
URL:https://friendsforevercolorado.org/event/club-night-14/2023-04-21/
LOCATION:Broomfield Community Church\, 255 Miramonte Blvd.\, Broomfield\, Colorado\, 80020
CATEGORIES:Club Night
END:VEVENT
BEGIN:VEVENT
DTSTART;TZID=America/Denver:20230407T180000
DTEND;TZID=America/Denver:20230407T200000
DTSTAMP:20260421T131507
CREATED:20230301T155628Z
LAST-MODIFIED:20230301T155628Z
UID:10000171-1680890400-1680897600@friendsforevercolorado.org
SUMMARY:Club Night!
DESCRIPTION:Please join us for a night of fun\, food and fellowship! \nTheme\, TBD. \n**Also we are looking for some help with our Club meals- this could be anything from providing the meal or drinks or dessert or just helping serve- below is a link to the sign up sheet for the next few months- if your interested please pick a date and what you would like to help with and send it back my way (dbake1342@gmail.com) \nClick Here for Meals Sign Up!
URL:https://friendsforevercolorado.org/event/club-night-14/2023-04-07/
LOCATION:Broomfield Community Church\, 255 Miramonte Blvd.\, Broomfield\, Colorado\, 80020
CATEGORIES:Club Night
END:VEVENT
BEGIN:VEVENT
DTSTART;TZID=America/Denver:20230317T180000
DTEND;TZID=America/Denver:20230317T200000
DTSTAMP:20260421T131507
CREATED:20230104T222538Z
LAST-MODIFIED:20230104T222538Z
UID:10000170-1679076000-1679083200@friendsforevercolorado.org
SUMMARY:St. Patty's Taco Club Night!
DESCRIPTION:We would love for you to join us at the Broomfield Community Church for Friends Forever Club (3/3/23) from 6pm-8pm! This week will be our St. Patty’s Taco Club.\n\nThis Friday we will be enjoying a delicious Taco meal provided by Andrea Gerding! We will also be singing some of our favorite songs\, playing some awesome games and a brand new bible study lesson- this will also be our St. Patty’s Club so feel free to wear your favorite green outfit.\n\n**Also we are looking for some help with our Club meals- this could be anything from providing the meal or drinks or dessert or just helping serve- attached is a link for the sign up sheet for the next few months- if you’re interested please pick a date and what you would like to help with and send it back my way (dbake1342@gmail.com)\nThanks!\n\nClick Here for Meals Sign Up
URL:https://friendsforevercolorado.org/event/club-night-13-2023-03-17/
LOCATION:Broomfield Community Church\, 255 Miramonte Blvd.\, Broomfield\, Colorado\, 80020
CATEGORIES:Club Night
END:VEVENT
BEGIN:VEVENT
DTSTART;TZID=America/Denver:20230303T180000
DTEND;TZID=America/Denver:20230303T200000
DTSTAMP:20260421T131507
CREATED:20230104T222538Z
LAST-MODIFIED:20230104T222538Z
UID:10000169-1677866400-1677873600@friendsforevercolorado.org
SUMMARY:Club Night!
DESCRIPTION:Hope everyone is having a wonderful start to your day! If you don’t have plans this Friday we would love for you to join us at the Broomfield Community Church for Friends Forever Club (3/3/23) from 6pm-8pm!\n\nThis Friday we will be enjoying a delicious meal provided by Patsy Bridges! We will also be singing some of our favorite songs\, playing some awesome games and a brand new bible study lesson!\n\n**Also we are looking for some help with our Club meals- this could be anything from providing the meal or drinks or dessert or just helping serve- below is a link to the sign up sheet for the next few months- if your interested please pick a date and what you would like to help with and send it back my way (dbake1342@gmail.com)\nThanks!\n\nClick Here for Meals Sign Up!
URL:https://friendsforevercolorado.org/event/club-night-13-2023-03-03/
LOCATION:Broomfield Community Church\, 255 Miramonte Blvd.\, Broomfield\, Colorado\, 80020
CATEGORIES:Club Night
END:VEVENT
BEGIN:VEVENT
DTSTART;TZID=America/Denver:20230217T180000
DTEND;TZID=America/Denver:20230217T200000
DTSTAMP:20260421T131507
CREATED:20230104T222538Z
LAST-MODIFIED:20230104T222538Z
UID:10000168-1676656800-1676664000@friendsforevercolorado.org
SUMMARY:Club Night!
DESCRIPTION:Join us for a night of fun\, fellowship\, games and song!\nTheme TBD.
URL:https://friendsforevercolorado.org/event/club-night-13-2023-02-17/2023-02-17/
LOCATION:Broomfield Community Church\, 255 Miramonte Blvd.\, Broomfield\, Colorado\, 80020
CATEGORIES:Club Night
END:VEVENT
BEGIN:VEVENT
DTSTART;TZID=America/Denver:20230203T180000
DTEND;TZID=America/Denver:20230203T200000
DTSTAMP:20260421T131507
CREATED:20230104T222538Z
LAST-MODIFIED:20230104T222538Z
UID:10000167-1675447200-1675454400@friendsforevercolorado.org
SUMMARY:Club Night!
DESCRIPTION:Come join us this Friday for Friends Forever Club! We will be meeting at the Broomfield Community Church from 6pm-8pm \nThis week come enjoy a delicious sloppy joe meal with salad and a special dessert! We will also have some new games and songs to share! This week our bible study will be on Ephesians 6:10-18 – The Armor of God 🛡🗡🛡 \nMy wife and I wanted to offer a big “Thank You” to all the leaders who helped run Club the past two months and to Jerry Street for his awesome bible studies – thanks for giving us some time to get used to being new parents! Looking forward to seeing everyone this Friday! \n~ Dan
URL:https://friendsforevercolorado.org/event/club-night-13-2023-02-03/
LOCATION:Broomfield Community Church\, 255 Miramonte Blvd.\, Broomfield\, Colorado\, 80020
CATEGORIES:Club Night
END:VEVENT
BEGIN:VEVENT
DTSTART;TZID=America/Denver:20230120T180000
DTEND;TZID=America/Denver:20230120T200000
DTSTAMP:20260421T131507
CREATED:20230104T222538Z
LAST-MODIFIED:20230104T222538Z
UID:10000166-1674237600-1674244800@friendsforevercolorado.org
SUMMARY:Club Night!
DESCRIPTION:New games- great songs- a new bible study lesson- good friends – fun times – you bet!\nAnd Alfredo Chicken casserole for dinner- yum!
URL:https://friendsforevercolorado.org/event/club-night-13/
LOCATION:Broomfield Community Church\, 255 Miramonte Blvd.\, Broomfield\, Colorado\, 80020
CATEGORIES:Club Night
END:VEVENT
BEGIN:VEVENT
DTSTART;TZID=America/Denver:20230106T180000
DTEND;TZID=America/Denver:20230106T200000
DTSTAMP:20260421T131507
CREATED:20230104T221627Z
LAST-MODIFIED:20230104T221627Z
UID:10000165-1673028000-1673035200@friendsforevercolorado.org
SUMMARY:Club Night!
DESCRIPTION:We would love it if you would join us on 1/6/2023 for the first Friends Forever Club of 2023! We will be kicking things off with an awesome Club Night! We will be meeting from 6pm-8pm at the Broomfield Community Church \n\n\n\nWe will be serving a home cooked meal (Sharon’s famous spaghetti!) garlic bread and salad. Also we will be enjoying some fun songs and worship songs\, time to share about your Christmas\, new games and a great bible lesson!
URL:https://friendsforevercolorado.org/event/club-night-12/
LOCATION:Broomfield Community Church\, 255 Miramonte Blvd.\, Broomfield\, Colorado\, 80020
CATEGORIES:Club Night
END:VEVENT
BEGIN:VEVENT
DTSTART;TZID=America/Denver:20221216T180000
DTEND;TZID=America/Denver:20221216T200000
DTSTAMP:20260421T131507
CREATED:20221101T202526Z
LAST-MODIFIED:20221101T202526Z
UID:10000164-1671213600-1671220800@friendsforevercolorado.org
SUMMARY:Club Night - Christmas Party!
DESCRIPTION:We would love it if you would join us on 12/16/22 for the Annual Friends Forever Christmas Party! We will be meeting from 6pm-8pm at the Broomfield Community Church \n\n\n\nWe will be serving a home cooked meal\, playing some Christmas themed games\, enjoying some holiday songs\, a gift exchange and a new bible lesson! \n\n\n\nFor the gift exchange: If you would like to participate please bring a gift (between 5-15 dollars) (if you need help covering the cost email me at dbake1342@gmail.com) 
URL:https://friendsforevercolorado.org/event/club-night-11-2022-12-16/
LOCATION:Broomfield Community Church\, 255 Miramonte Blvd.\, Broomfield\, Colorado\, 80020
CATEGORIES:Club Night,Special Events
ATTACH;FMTTYPE=:
END:VEVENT
BEGIN:VEVENT
DTSTART;TZID=America/Denver:20221202T180000
DTEND;TZID=America/Denver:20221202T200000
DTSTAMP:20260421T131507
CREATED:20221101T202526Z
LAST-MODIFIED:20221101T202526Z
UID:10000163-1670004000-1670011200@friendsforevercolorado.org
SUMMARY:Club Night!
DESCRIPTION:This Friday Friends Forever will be hosting our 1st of two December Clubs! This week our Club Night at the Broomfield Community Church will take place from 6pm-8pm! \n\n\n\nCome join us for a fun night of games\, songs\, a deliciously awesome meal and a new bible study lesson! Hope we see you this Friday! 
URL:https://friendsforevercolorado.org/event/club-night-11-2022-12-02/
LOCATION:Broomfield Community Church\, 255 Miramonte Blvd.\, Broomfield\, Colorado\, 80020
CATEGORIES:Club Night
END:VEVENT
BEGIN:VEVENT
DTSTART;TZID=America/Denver:20221118T180000
DTEND;TZID=America/Denver:20221118T200000
DTSTAMP:20260421T131507
CREATED:20221101T202526Z
LAST-MODIFIED:20221101T202526Z
UID:10000162-1668794400-1668801600@friendsforevercolorado.org
SUMMARY:Club Night - Thanksgiving Club!
DESCRIPTION:Gobble Gobble- this Friday Friends Forever will be hosting our Thanksgiving Club Night at the Broomfield Community Church from 6pm-8pm! \n\n\n\nCome join us for a fun night of games\, skits\, songs\, a delicious meal and a new bible study lesson! Hope we see you this Friday! 
URL:https://friendsforevercolorado.org/event/club-night-11-2022-11-18/
LOCATION:Broomfield Community Church\, 255 Miramonte Blvd.\, Broomfield\, Colorado\, 80020
CATEGORIES:Club Night,Special Events
ATTACH;FMTTYPE=:
END:VEVENT
BEGIN:VEVENT
DTSTART;TZID=America/Denver:20221111T180000
DTEND;TZID=America/Denver:20221111T200000
DTSTAMP:20260421T131507
CREATED:20221101T202526Z
LAST-MODIFIED:20221101T202526Z
UID:10000161-1668189600-1668196800@friendsforevercolorado.org
SUMMARY:Club Night!
DESCRIPTION:This Friday Friends Forever will be hosting our Club Night at the Broomfield Community Church from 6pm-8pm! \n\n\n\nCome join us for a fun night of games\, skits\, songs\, a delicious meal and a new bible study lesson! Hope we see you this Friday!  \n\n\n\nIf you came to came to Fall Camp our camp shirts and photos are ready- we will be hanging them out at club this week 
URL:https://friendsforevercolorado.org/event/club-night-11/
LOCATION:Broomfield Community Church\, 255 Miramonte Blvd.\, Broomfield\, Colorado\, 80020
CATEGORIES:Club Night
END:VEVENT
BEGIN:VEVENT
DTSTART;TZID=America/Denver:20221028T180000
DTEND;TZID=America/Denver:20221028T200000
DTSTAMP:20260421T131507
CREATED:20221024T194535Z
LAST-MODIFIED:20221024T194535Z
UID:10000160-1666980000-1666987200@friendsforevercolorado.org
SUMMARY:Halloween Bash!
DESCRIPTION:Hope everyone is enjoying this beautiful time of the year! \n\n\n\nNext Friday (10/28) Friends Forever will be hosting its annual Halloween Party! We will be meeting at the Broomfield Community Church from 6pm-8pm \n\n\n\nCome join us for a spooky fun night! We will be serving dinner\, enjoying some treats\, playing some Halloween themed games and ending the night a Monster Mash Dance Party!
URL:https://friendsforevercolorado.org/event/halloween-bash/
LOCATION:Broomfield Community Church\, 255 Miramonte Blvd.\, Broomfield\, Colorado\, 80020
CATEGORIES:Club Night,Special Events
ATTACH;FMTTYPE=:
END:VEVENT
BEGIN:VEVENT
DTSTART;TZID=America/Denver:20221021T180000
DTEND;TZID=America/Denver:20221021T200000
DTSTAMP:20260421T131507
CREATED:20220821T000300Z
LAST-MODIFIED:20220821T000300Z
UID:10000158-1666375200-1666382400@friendsforevercolorado.org
SUMMARY:Club Night!
DESCRIPTION:This Friday (10/21) Friends Forever will be hosting our Bible study Club night at the Broomfield Community Church from 6pm-8pm.  \n\n\n\n\n\n\n\nWe are looking forward to a fun evening with some new games\, worship songs and some fun songs\, time to share about our week and a cool bible study lesson.  \n\n\n\nFor dinner Judy is blessing us once again with a home cooked chili dinner so home hungry!!
URL:https://friendsforevercolorado.org/event/club-night-10/
LOCATION:Broomfield Community Church\, 255 Miramonte Blvd.\, Broomfield\, Colorado\, 80020
CATEGORIES:Club Night
END:VEVENT
BEGIN:VEVENT
DTSTART;TZID=America/Denver:20221006T160000
DTEND;TZID=America/Denver:20221009T140000
DTSTAMP:20260421T131507
CREATED:20220821T000441Z
LAST-MODIFIED:20220821T000441Z
UID:10000159-1665072000-1665324000@friendsforevercolorado.org
SUMMARY:Fall Camp - Registration Now Open!
DESCRIPTION:We here at Friends Forever are thrilled to announce we will be holding Fall Camp from October 6th-9th 2022! \n\n\n\nFor this camp we will be trying out a new location! We will be hosted by the YMCA Santa Maria camp in Bailey\, CO (https://www.ymcanoco.org/camp-santa-maria). It’s a short hour and 15 minute drive from the Broomfield Community Church. We will be departing from the Broomfield Community Church around 4pm on Thursday the 6th and returning around 2pm on Sunday the 9th \n\n\n\nCamp: \n\n\n\nWe will enjoy an amazing weekend in the mountains; we will be swimming (each day in a heated outdoor pool!)\, enjoying the waterfront area with kayaks\, arts and crafts events\, group games\, outdoor events like archery and rock climbing\, camp fires\, ropes course and much more! Also each night we will have a Club style event with games\, skits\, songs and a Bible study lesson and a devotional time in the mornings.   \n\n\n\nCost: \n\n\n\nBig thank you to Jana Ward for helping arrange this camp! We are also very happy to share that we were able to cut the cost of camp. Camp will be $200 per camper! (Past winter camps were $325 and this year was looking initially like another increase) So we are very excited about this and we also have scholarship opportunities available as well for just 25 dollars.  \n\n\n\nHow to sign up: \n\n\n\nAttached is the Camp registration form\, Annual media release\, medical release and General Activity form (For the annual releases: if you did not complete these for the Camp that took place in February 2022 then we will need these for Fall Camp)   \n\n\n\nTo get your spot for camp please turn in a Camp Registration form and the 50 dollar deposit. Checks can be made out to “Friends Forever Colorado” \n\n\n\nYou can turn in the paperwork in-person or email me signed copies.  \n\n\n\n2022 Camp Registration Form   \n\n\n\nMedia Release Form   \n\n\n\nCamp Scholarship Form   \n\n\n\nMedical Consent and Release Form \n\n\n\nGeneral Activity Participation Agreement Form \n\n\n\nIf you want to mail in forms please address them to: \n\n\n\nFriends Forever ColoradoP.O. Box 740243Arvada\, CO 80006-0243 \n\n\n\n***If you are mailing forms and payment please let us know by either emailing my at dbake1342@gmail.com or call/text at 717-658-5658 so we know to check the mail in a timely manner**** \n\n\n\nCan’t wait for camp! Please let me know if you have any questions
URL:https://friendsforevercolorado.org/event/fall-camp/
LOCATION:YMCA Camp Santa Maria\, 2800 Dagny Way\, Lafayette\, CO\, 80026\, United States
ATTACH;FMTTYPE=:
END:VEVENT
END:VCALENDAR