BEGIN:VCALENDAR
VERSION:2.0
PRODID:-//Friends Forever Colorado - ECPv6.15.20//NONSGML v1.0//EN
CALSCALE:GREGORIAN
METHOD:PUBLISH
X-ORIGINAL-URL:https://friendsforevercolorado.org
X-WR-CALDESC:Events for Friends Forever Colorado
REFRESH-INTERVAL;VALUE=DURATION:PT1H
X-Robots-Tag:noindex
X-PUBLISHED-TTL:PT1H
BEGIN:VTIMEZONE
TZID:UTC
BEGIN:STANDARD
TZOFFSETFROM:+0000
TZOFFSETTO:+0000
TZNAME:UTC
DTSTART:20180101T000000
END:STANDARD
END:VTIMEZONE
BEGIN:VTIMEZONE
TZID:America/Denver
BEGIN:DAYLIGHT
TZOFFSETFROM:-0700
TZOFFSETTO:-0600
TZNAME:MDT
DTSTART:20180311T090000
END:DAYLIGHT
BEGIN:STANDARD
TZOFFSETFROM:-0600
TZOFFSETTO:-0700
TZNAME:MST
DTSTART:20181104T080000
END:STANDARD
BEGIN:DAYLIGHT
TZOFFSETFROM:-0700
TZOFFSETTO:-0600
TZNAME:MDT
DTSTART:20190310T090000
END:DAYLIGHT
BEGIN:STANDARD
TZOFFSETFROM:-0600
TZOFFSETTO:-0700
TZNAME:MST
DTSTART:20191103T080000
END:STANDARD
BEGIN:DAYLIGHT
TZOFFSETFROM:-0700
TZOFFSETTO:-0600
TZNAME:MDT
DTSTART:20200308T090000
END:DAYLIGHT
BEGIN:STANDARD
TZOFFSETFROM:-0600
TZOFFSETTO:-0700
TZNAME:MST
DTSTART:20201101T080000
END:STANDARD
END:VTIMEZONE
BEGIN:VEVENT
DTSTART;TZID=UTC:20190415T180000
DTEND;TZID=UTC:20190415T191500
DTSTAMP:20260422T160745
CREATED:20190103T023150Z
LAST-MODIFIED:20190103T023150Z
UID:10000003-1555351200-1555355700@friendsforevercolorado.org
SUMMARY:Monday Night Small Group Bible Study (Arvada)
DESCRIPTION:Please join us for dinner and fun while we study from the Jesus Story Bible. This meetup happens twice per month.
URL:https://friendsforevercolorado.org/event/monday-night-small-group-bible-study-arvada-2019-04-08/
LOCATION:Denny’s – Westminster\, 7201 Sheridan Blvd.\, Westminster\, CO\, 80003\, United States
CATEGORIES:Bible Study
ORGANIZER;CN="Jen Street":MAILTO:jenstreet70@gmail.com
END:VEVENT
BEGIN:VEVENT
DTSTART;TZID=America/Denver:20190413T180000
DTEND;TZID=America/Denver:20190413T200000
DTSTAMP:20260422T160745
CREATED:20190122T031259Z
LAST-MODIFIED:20190122T031259Z
UID:10000019-1555178400-1555185600@friendsforevercolorado.org
SUMMARY:2nd Annual Fundraising Banquet!
DESCRIPTION:Hey guys and dolls! \nBe-bop on down to a real hip diner – the Friends Diner. Dinner will be served and items will be available for auction.\nAnd we’ll catch some tunes performed by our very own Friends. \nDon’t be a square\, tickets are $40 each or $70 for a couple or consider our best deal  by purchasing a table of 8 for $250!
URL:https://friendsforevercolorado.org/event/2nd-annual-fundraising-banquet/
LOCATION:Broomfield Community Church\, 255 Miramonte Blvd.\, Broomfield\, Colorado\, 80020
CATEGORIES:Fundraising
ATTACH;FMTTYPE=:
ORGANIZER;CN="Jen Street":MAILTO:jenstreet70@gmail.com
END:VEVENT
BEGIN:VEVENT
DTSTART;TZID=America/Denver:20190412T180000
DTEND;TZID=America/Denver:20190412T194500
DTSTAMP:20260422T160745
CREATED:20190122T031113Z
LAST-MODIFIED:20190122T031113Z
UID:10000017-1555092000-1555098300@friendsforevercolorado.org
SUMMARY:Club Night!
DESCRIPTION:Join us for Club Night where we always have great fun and fellowship!  \nTonight we are doing build your own chicken salad bar for dinner!
URL:https://friendsforevercolorado.org/event/club-night-2-2019-04-12/
LOCATION:Broomfield Community Church\, 255 Miramonte Blvd.\, Broomfield\, Colorado\, 80020
CATEGORIES:Club Night
ORGANIZER;CN="Jen Street":MAILTO:jenstreet70@gmail.com
END:VEVENT
BEGIN:VEVENT
DTSTART;TZID=UTC:20190411T180000
DTEND;TZID=UTC:20190411T191500
DTSTAMP:20260422T160745
CREATED:20190103T023815Z
LAST-MODIFIED:20190103T023815Z
UID:10000008-1555005600-1555010100@friendsforevercolorado.org
SUMMARY:Thursday Night Small Group Bible Study (Thornton)
DESCRIPTION:Please join us for dinner and fun while we study from the Jesus Story Bible. This meetup happens twice per month.
URL:https://friendsforevercolorado.org/event/thursday-night-small-group-bible-study-thornton-2019-01-31-2019-04-04/
LOCATION:Perkins – Thornton\, 12015 Melody Drive\, Thornton\, CO\, 80234\, United States
CATEGORIES:Bible Study
ORGANIZER;CN="Jen Street":MAILTO:jenstreet70@gmail.com
END:VEVENT
BEGIN:VEVENT
DTSTART;TZID=America/Denver:20190322T180000
DTEND;TZID=America/Denver:20190322T194500
DTSTAMP:20260422T160745
CREATED:20190122T031113Z
LAST-MODIFIED:20190122T031113Z
UID:10000016-1553277600-1553283900@friendsforevercolorado.org
SUMMARY:Club Night - GREEN Club!
DESCRIPTION:Wear your green\, and we’ll have fun green food too! St. Patrick’s Day has passed but we are celebrating tonight!
URL:https://friendsforevercolorado.org/event/club-night-2-2019-03-22/
LOCATION:Broomfield Community Church\, 255 Miramonte Blvd.\, Broomfield\, Colorado\, 80020
CATEGORIES:Club Night
ATTACH;FMTTYPE=:
ORGANIZER;CN="Jen Street":MAILTO:jenstreet70@gmail.com
END:VEVENT
BEGIN:VEVENT
DTSTART;TZID=America/Denver:20190308T180000
DTEND;TZID=America/Denver:20190308T194500
DTSTAMP:20260422T160745
CREATED:20190122T031113Z
LAST-MODIFIED:20190122T031113Z
UID:10000015-1552068000-1552074300@friendsforevercolorado.org
SUMMARY:March Madness Club Night!
DESCRIPTION:It’s Club time again. Hope to see all of our friends there!\nWe plan to have Mexican for dinner. Come dressed as your favorite NCAA team if you want. March Madness is upon us.
URL:https://friendsforevercolorado.org/event/club-night-2-2019-03-08/
LOCATION:Broomfield Community Church\, 255 Miramonte Blvd.\, Broomfield\, Colorado\, 80020
CATEGORIES:Club Night
ORGANIZER;CN="Jen Street":MAILTO:jenstreet70@gmail.com
END:VEVENT
BEGIN:VEVENT
DTSTART;TZID=America/Denver:20190222T180000
DTEND;TZID=America/Denver:20190222T194500
DTSTAMP:20260422T160745
CREATED:20190122T031113Z
LAST-MODIFIED:20190122T031113Z
UID:10000014-1550858400-1550864700@friendsforevercolorado.org
SUMMARY:Club Night - Celebrating Chinese New Year!
DESCRIPTION:We are going to celebrate Chinese New Year a little bit late and have fun with the color red and eat some Chinese food. Hope to see you there.
URL:https://friendsforevercolorado.org/event/club-night-2-2019-02-22/
LOCATION:Broomfield Community Church\, 255 Miramonte Blvd.\, Broomfield\, Colorado\, 80020
CATEGORIES:Club Night
ATTACH;FMTTYPE=:
ORGANIZER;CN="Jen Street":MAILTO:jenstreet70@gmail.com
END:VEVENT
BEGIN:VEVENT
DTSTART;TZID=America/Denver:20190222T173000
DTEND;TZID=America/Denver:20190222T180000
DTSTAMP:20260422T160745
CREATED:20190208T040325Z
LAST-MODIFIED:20190208T040325Z
UID:10000023-1550856600-1550858400@friendsforevercolorado.org
SUMMARY:Banquet Practice Before Club
DESCRIPTION:Come to Club Night half an hour early to practice for the annual fundraising banquet that happens on April 13\, 2019.\nYour talent would be much appreciated so join us!
URL:https://friendsforevercolorado.org/event/banquet-practice-before-club/2019-02-22/
LOCATION:Broomfield Community Church\, 255 Miramonte Blvd.\, Broomfield\, Colorado\, 80020
CATEGORIES:Club Night
ORGANIZER;CN="Jen Street":MAILTO:jenstreet70@gmail.com
END:VEVENT
BEGIN:VEVENT
DTSTART;TZID=America/Denver:20190216T130000
DTEND;TZID=America/Denver:20190216T160000
DTSTAMP:20260422T160745
CREATED:20190208T034157Z
LAST-MODIFIED:20190208T034157Z
UID:10000022-1550322000-1550332800@friendsforevercolorado.org
SUMMARY:Saturday Movie Matinee 
DESCRIPTION:Saturday February 16th from 1 to 4 at the club church (Broomfield Community Church). We will show The Chronicles of Narnia:The Lion\, the Witch and the Wardrobe movie and provide pizza and drinks and Movie Snacks.\nHope to see you all on the 16th!!\n\n**The last 30 minutes of this time will be used to introduce the five songs that we are going to perform as the entertainment for our annual banquet. If your kiddo would like to be involved in that performance please have them attend Saturday so that we can get a good idea of who wants to do what. Thank you.
URL:https://friendsforevercolorado.org/event/movie-event/
LOCATION:Broomfield Community Church\, 255 Miramonte Blvd.\, Broomfield\, Colorado\, 80020
CATEGORIES:Special Events
ATTACH;FMTTYPE=:
ORGANIZER;CN="Jen Street":MAILTO:jenstreet70@gmail.com
END:VEVENT
BEGIN:VEVENT
DTSTART;TZID=America/Denver:20190208T180000
DTEND;TZID=America/Denver:20190208T210000
DTSTAMP:20260422T160745
CREATED:20190122T030535Z
LAST-MODIFIED:20190122T030535Z
UID:10000012-1549648800-1549659600@friendsforevercolorado.org
SUMMARY:Night To Shine!
DESCRIPTION:Night To Shine\n\n\nFebruary 8\, 2019 // 6:00 pm – 9:00 pm // Frederick Campus \n\nNight to Shine is an unforgettable prom night experience\, centered on God’s love\, for people with special needs\, ages 14 and older. The event will take place at more than 500 churches around the world simultaneously on February 8\, 2019. Our Frederick Campus is located at 5860 Majestic Street in Frederick.\n\nTo learn more and see all the churches that are a part of this worldwide movement\, check out www.timtebowfoundation.org.
URL:https://friendsforevercolorado.org/event/night-to-shine/
LOCATION:Rocky Mountain Christian Church\, 5860 Majestic Street\, Frederick\, CO\, 80504\, United States
CATEGORIES:Shine
ATTACH;FMTTYPE=:
ORGANIZER;CN="Jen Street":MAILTO:jenstreet70@gmail.com
END:VEVENT
BEGIN:VEVENT
DTSTART;TZID=UTC:20190131T180000
DTEND;TZID=UTC:20190131T191500
DTSTAMP:20260422T160745
CREATED:20190103T023815Z
LAST-MODIFIED:20190103T023815Z
UID:10000007-1548957600-1548962100@friendsforevercolorado.org
SUMMARY:Thursday Night Small Group Bible Study (Thornton)
DESCRIPTION:Please join us for dinner and fun while we study from the Jesus Story Bible. This meetup happens twice per month.
URL:https://friendsforevercolorado.org/event/thursday-night-small-group-bible-study-thornton-2019-01-31/2019-01-31/
LOCATION:Perkins – Thornton\, 12015 Melody Drive\, Thornton\, CO\, 80234\, United States
CATEGORIES:Bible Study
ORGANIZER;CN="Jen Street":MAILTO:jenstreet70@gmail.com
END:VEVENT
BEGIN:VEVENT
DTSTART;TZID=America/Denver:20190125T180000
DTEND;TZID=America/Denver:20190125T194500
DTSTAMP:20260422T160745
CREATED:20190122T031113Z
LAST-MODIFIED:20190122T031113Z
UID:10000013-1548439200-1548445500@friendsforevercolorado.org
SUMMARY:Club Night!
DESCRIPTION:Join us for Club Night where we always have great fun and fellowship! 
URL:https://friendsforevercolorado.org/event/club-night-2/2019-01-25/
LOCATION:Broomfield Community Church\, 255 Miramonte Blvd.\, Broomfield\, Colorado\, 80020
CATEGORIES:Club Night
ORGANIZER;CN="Jen Street":MAILTO:jenstreet70@gmail.com
END:VEVENT
BEGIN:VEVENT
DTSTART;TZID=America/Denver:20190118T180000
DTEND;TZID=America/Denver:20190118T194500
DTSTAMP:20260422T160745
CREATED:20181227T054801Z
LAST-MODIFIED:20181227T054801Z
UID:10000001-1547834400-1547840700@friendsforevercolorado.org
SUMMARY:Club Night! Yogi Bear Club. - CANCELLED DUE TO WEATHER
DESCRIPTION:Come join us as we have fun\, food and fellowship! Club nights usually have a theme – so stay tuned for this night’s theme!
URL:https://friendsforevercolorado.org/event/club-night/
LOCATION:Broomfield Community Church\, 255 Miramonte Blvd.\, Broomfield\, Colorado\, 80020
CATEGORIES:Club Night
ORGANIZER;CN="Jen Street":MAILTO:jenstreet70@gmail.com
END:VEVENT
BEGIN:VEVENT
DTSTART;TZID=UTC:20190117T180000
DTEND;TZID=UTC:20190117T191500
DTSTAMP:20260422T160745
CREATED:20190103T023815Z
LAST-MODIFIED:20190103T023815Z
UID:10000006-1547748000-1547752500@friendsforevercolorado.org
SUMMARY:Thursday Night Small Group Bible Study (Thornton)
DESCRIPTION:Please join us for dinner and fun while we study from the Jesus Story Bible. This meetup happens twice per month\, except we will meet three times in January.
URL:https://friendsforevercolorado.org/event/thursday-night-small-group-bible-study-thornton-2019-01-17/
LOCATION:Perkins – Thornton\, 12015 Melody Drive\, Thornton\, CO\, 80234\, United States
CATEGORIES:Bible Study
ORGANIZER;CN="Jen Street":MAILTO:jenstreet70@gmail.com
END:VEVENT
BEGIN:VEVENT
DTSTART;TZID=UTC:20190114T180000
DTEND;TZID=UTC:20190114T191500
DTSTAMP:20260422T160745
CREATED:20190103T023150Z
LAST-MODIFIED:20190103T023150Z
UID:10000002-1547488800-1547493300@friendsforevercolorado.org
SUMMARY:Monday Night Small Group Bible Study (Arvada)
DESCRIPTION:Please join us for dinner and fun while we study from the Jesus Story Bible. This meetup happens twice per month.
URL:https://friendsforevercolorado.org/event/monday-night-small-group-bible-study-arvada/2019-01-14/
LOCATION:Denny’s – Westminster\, 7201 Sheridan Blvd.\, Westminster\, CO\, 80003\, United States
CATEGORIES:Bible Study
ORGANIZER;CN="Jen Street":MAILTO:jenstreet70@gmail.com
END:VEVENT
BEGIN:VEVENT
DTSTART;TZID=UTC:20190109T173000
DTEND;TZID=UTC:20190109T190000
DTSTAMP:20260422T160745
CREATED:20190103T024654Z
LAST-MODIFIED:20190103T024654Z
UID:10000011-1547055000-1547060400@friendsforevercolorado.org
SUMMARY:Wednesday Night Small Group Bible Study (Boulder)
DESCRIPTION:Please join us for dinner and fun while we study from the Jesus Story Bible. This meetup happens three times per month.
URL:https://friendsforevercolorado.org/event/wednesday-night-small-group-bible-study-boulder/2019-01-09/
LOCATION:IHOP – Boulder\, 1675 28th Street\, Boulder\, CO\, 80301\, United States
CATEGORIES:Bible Study
END:VEVENT
BEGIN:VEVENT
DTSTART;TZID=UTC:20190103T180000
DTEND;TZID=UTC:20190103T191500
DTSTAMP:20260422T160745
CREATED:20190103T023815Z
LAST-MODIFIED:20190103T023815Z
UID:10000005-1546538400-1546542900@friendsforevercolorado.org
SUMMARY:Thursday Night Small Group Bible Study (Thornton)
DESCRIPTION:Please join us for dinner and fun while we study from the Jesus Story Bible. This meetup happens twice per month\, except we will meet three times in January.
URL:https://friendsforevercolorado.org/event/thursday-night-small-group-bible-study-thornton/
LOCATION:Perkins – Thornton\, 12015 Melody Drive\, Thornton\, CO\, 80234\, United States
CATEGORIES:Bible Study
ORGANIZER;CN="Jen Street":MAILTO:jenstreet70@gmail.com
END:VEVENT
END:VCALENDAR