BEGIN:VCALENDAR
VERSION:2.0
PRODID:-//Friends Forever Colorado - ECPv6.15.20//NONSGML v1.0//EN
CALSCALE:GREGORIAN
METHOD:PUBLISH
X-WR-CALNAME:Friends Forever Colorado
X-ORIGINAL-URL:https://friendsforevercolorado.org
X-WR-CALDESC:Events for Friends Forever Colorado
REFRESH-INTERVAL;VALUE=DURATION:PT1H
X-Robots-Tag:noindex
X-PUBLISHED-TTL:PT1H
BEGIN:VTIMEZONE
TZID:UTC
BEGIN:STANDARD
TZOFFSETFROM:+0000
TZOFFSETTO:+0000
TZNAME:UTC
DTSTART:20180101T000000
END:STANDARD
END:VTIMEZONE
BEGIN:VTIMEZONE
TZID:America/Denver
BEGIN:DAYLIGHT
TZOFFSETFROM:-0700
TZOFFSETTO:-0600
TZNAME:MDT
DTSTART:20180311T090000
END:DAYLIGHT
BEGIN:STANDARD
TZOFFSETFROM:-0600
TZOFFSETTO:-0700
TZNAME:MST
DTSTART:20181104T080000
END:STANDARD
BEGIN:DAYLIGHT
TZOFFSETFROM:-0700
TZOFFSETTO:-0600
TZNAME:MDT
DTSTART:20190310T090000
END:DAYLIGHT
BEGIN:STANDARD
TZOFFSETFROM:-0600
TZOFFSETTO:-0700
TZNAME:MST
DTSTART:20191103T080000
END:STANDARD
BEGIN:DAYLIGHT
TZOFFSETFROM:-0700
TZOFFSETTO:-0600
TZNAME:MDT
DTSTART:20200308T090000
END:DAYLIGHT
BEGIN:STANDARD
TZOFFSETFROM:-0600
TZOFFSETTO:-0700
TZNAME:MST
DTSTART:20201101T080000
END:STANDARD
END:VTIMEZONE
BEGIN:VEVENT
DTSTART;TZID=UTC:20190909T180000
DTEND;TZID=UTC:20190909T191500
DTSTAMP:20260423T012534
CREATED:20190819T220200Z
LAST-MODIFIED:20190819T220200Z
UID:10000049-1568052000-1568056500@friendsforevercolorado.org
SUMMARY:Monday Night Small Group Bible Study (Arvada)
DESCRIPTION:Please join us for dinner and fun while we study from the Jesus Story Bible. This meetup happens twice per month.
URL:https://friendsforevercolorado.org/event/monday-night-small-group-bible-study-arvada-2019-05-06-2/2019-09-09/
LOCATION:Denny’s – Westminster\, 7201 Sheridan Blvd.\, Westminster\, CO\, 80003\, United States
CATEGORIES:Bible Study
END:VEVENT
BEGIN:VEVENT
DTSTART;TZID=America/Denver:20190906T180000
DTEND;TZID=America/Denver:20190906T194500
DTSTAMP:20260423T012534
CREATED:20190805T201050Z
LAST-MODIFIED:20190805T201050Z
UID:10000033-1567792800-1567799100@friendsforevercolorado.org
SUMMARY:Club Night - Bible Study!
DESCRIPTION:Join us friends\, for food\, fun and friendship! \nTonight we are having pizza\, salads and fruit for dinner.
URL:https://friendsforevercolorado.org/event/club-night-3/
LOCATION:Broomfield Community Church\, 255 Miramonte Blvd.\, Broomfield\, Colorado\, 80020
CATEGORIES:Club Night
END:VEVENT
BEGIN:VEVENT
DTSTART;TZID=UTC:20190905T180000
DTEND;TZID=UTC:20190905T191500
DTSTAMP:20260423T012534
CREATED:20190819T215752Z
LAST-MODIFIED:20190819T215752Z
UID:10000041-1567706400-1567710900@friendsforevercolorado.org
SUMMARY:Thursday Night Small Group Bible Study (Thornton)
DESCRIPTION:Please join us for dinner and fun while we study from the Jesus Story Bible. This meetup happens twice per month.
URL:https://friendsforevercolorado.org/event/thursday-night-small-group-bible-study-thornton-2019-01-31-2019-05-09-2/2019-09-05/
LOCATION:Perkins – Thornton\, 12015 Melody Drive\, Thornton\, CO\, 80234\, United States
CATEGORIES:Bible Study
END:VEVENT
BEGIN:VEVENT
DTSTART;TZID=America/Denver:20190823T173000
DTEND;TZID=America/Denver:20190823T193000
DTSTAMP:20260423T012534
CREATED:20190609T230006Z
LAST-MODIFIED:20190609T230006Z
UID:10000027-1566581400-1566588600@friendsforevercolorado.org
SUMMARY:Welcome Back BBQ and Pool Party!
DESCRIPTION:Drum roll please….We would like to invite you to our Friends Forever Welcome Back BBQ and Pool Party!!!\n\n\nThis will be our kickoff event for the fall\, we will be enjoying a pool party and cook out on August 23rd from 5:30pm-7:30pm at the Candelas Club House. This is located at 19865 W. 94th Avenue\, Arvada\, CO 80007 United States. \nWe will provide the burgers\, hot dogs and drinks. Please bring a side dish to share if you would like! Families and friends are welcome! \nHope to see you all there for a fun night of swimming\, games\, food and fellowship! \nThanks\, \nDan Baker \nHere is a link for the address if needed: https://www.google.com/maps/dir//19865+W.+94th+Avenue\,+Arvada\,+CO+80007+United+States./@39.9280925\,-105.0060579\,15z/data=!4m2!4m1!3e0
URL:https://friendsforevercolorado.org/event/welcome-back-bbq-and-pool-party/
LOCATION:Candelas Club House\, 19865 W. 94th Avenue\, Arvada\, CO\, 80007\, United States
CATEGORIES:Club Night
END:VEVENT
BEGIN:VEVENT
DTSTART;TZID=America/Denver:20190806T180000
DTEND;TZID=America/Denver:20190806T210000
DTSTAMP:20260423T012534
CREATED:20190122T032350Z
LAST-MODIFIED:20190122T032350Z
UID:10000031-1565114400-1565125200@friendsforevercolorado.org
SUMMARY:Tuesday Night Summer Field Trips - KFC/Taco Bell and Elvis Cinema!
DESCRIPTION:For our final Tuesday Night Summer Outting we will be enjoying dinner and a movie!\nWe will be meeting at 64th and Sheridan at 6:00 p.m. at the KFC/Taco bell combined store for dinner and then we’ll walk over to the Elvis Cinemas.\nWe will be watching the Secret Life Of Pets. The movie ends at 9:00 p.m.\nThe movie is $4.00 a ticket.\nPick up will be at the Elvis Cinemas at 9:00 p.m.
URL:https://friendsforevercolorado.org/event/tuesday-night-summer-field-trips-2019-07-02-2019-08-06/
LOCATION:Elvis Cinemas – Arvada\, 5157 W. 64th Avenue\, Arvada\, CO\, 80003\, United States
CATEGORIES:Field Trips
ATTACH;FMTTYPE=:
ORGANIZER;CN="Jen Street":MAILTO:jenstreet70@gmail.com
END:VEVENT
BEGIN:VEVENT
DTSTART;TZID=America/Denver:20190730T180000
DTEND;TZID=America/Denver:20190730T200000
DTSTAMP:20260423T012534
CREATED:20190122T032350Z
LAST-MODIFIED:20190122T032350Z
UID:10000030-1564509600-1564516800@friendsforevercolorado.org
SUMMARY:Tuesday Night Summer Field Trips - Fat Cats Bowling - CANCELLED!
DESCRIPTION:Friends – we are so sorry to announce that Fat Cats is closed tonight unexpectedly\, so tonight’s field trip is cancelled.\nFriends Forever will be bowling at Fat Cats in Westminster! We will be bowling from 6pm to 8pm. Bowling is 99 cents a game and $2.50 for shoe rental. We will usually get about 2 full games in during this event.\n\nHere is a link to the menu if anyone had any questions about food prices: https://www.fatcatsfun.com/westminster/food
URL:https://friendsforevercolorado.org/event/tuesday-night-summer-field-trips-2019-07-02-2019-07-30/
LOCATION:Fat Cats Bowling\, 10685 Westminster Blvd.\, Westminster\, CO\, 80020\, United States
CATEGORIES:Field Trips
ATTACH;FMTTYPE=:
END:VEVENT
BEGIN:VEVENT
DTSTART;TZID=America/Denver:20190719T180000
DTEND;TZID=America/Denver:20190719T200000
DTSTAMP:20260423T012534
CREATED:20190620T001952Z
LAST-MODIFIED:20190620T001952Z
UID:10000032-1563559200-1563566400@friendsforevercolorado.org
SUMMARY:Neon Party!
DESCRIPTION:JOIN US FOR A NEON PARTY !\nfor adults with developmental or intellectual disabilities \nFriday\, July 19\, 6-8pm\nCrossroads Church \n53 E. 128th Avenue\,Thornton CO 80241 \nSnacks\, games\, karaoke\, photo booth\, smoothies and more! \nVIP room for caregivers. FREE!\nRSVP @ crossroadsabc.com/neon\nRSVP ahead of time and receive a gift at check-in! \nVOLUNTEER? Sign up for a team @ crossroadsabc.com/neon-volunteer \nQUESTIONS Kaity\, kaity@dc2.me \nHosted by Crossroads Church and Discovery Christian Church \nCheck out the flyer here!
URL:https://friendsforevercolorado.org/event/neon-party/
LOCATION:Crossroads Church\, 53 E. 128th Avenue\, Thornton\, CO\, 80241\, United States
CATEGORIES:Special Events
ATTACH;FMTTYPE=:
END:VEVENT
BEGIN:VEVENT
DTSTART;TZID=America/Denver:20190716T180000
DTEND;TZID=America/Denver:20190716T200000
DTSTAMP:20260423T012534
CREATED:20190122T032350Z
LAST-MODIFIED:20190122T032350Z
UID:10000029-1563300000-1563307200@friendsforevercolorado.org
SUMMARY:Tuesday Night Summer Field Trips - Movie Night!
DESCRIPTION:Join us tonight for Movie Night at the Church!\nWe will be watching the Pixar movie Inside Out! \nFriends Forever will be providing pizza and water for the group for diner!\nFeel free to bring snacks or anything else if you would prefer to eat something other than pizza.\n \nThanks and see everyone there!
URL:https://friendsforevercolorado.org/event/tuesday-night-summer-field-trips-2019-07-02-2019-07-16/
LOCATION:Broomfield Community Church\, 255 Miramonte Blvd.\, Broomfield\, Colorado\, 80020
CATEGORIES:Field Trips
ATTACH;FMTTYPE=:
END:VEVENT
BEGIN:VEVENT
DTSTART;TZID=America/Denver:20190709T180000
DTEND;TZID=America/Denver:20190709T200000
DTSTAMP:20260423T012534
CREATED:20190122T032350Z
LAST-MODIFIED:20190122T032350Z
UID:10000028-1562695200-1562702400@friendsforevercolorado.org
SUMMARY:Tuesday Night Summer Field Trips - Adventure Golf!
DESCRIPTION:Join us tonight at Adventure Golf & Raceway! \n  \nPricing: \nAdventure Golf (Mini Golf 18 Holes) \nAdult (13-59) $8.25 \nSenior (60 & over) $6.95 \nUnlimited Mini Golf \nAdult (13-59) $12.75 \nSenior (60 & over) $11.50 \nGo-Karts \nDriver Pass – $6.25 (must be 50”+ tall to drive a Single Kart) \nPassenger – Free with paying driver \nBumper Cars \nDriver Pass $5.75 \nAdventure Rope Course \nRope Course $8.25 (Must be 48″ tall to participate\, 200 lbs maximum\, and closed toed shoes are required.) \nCreate Your Own Adventure \nPick 2 – $10.64/person \nPlay two unique attractions. (Mini Golf\, Go-Kart\, Bumper Car\, Rope Course\, or Maze) \nPick 3 – $15.96/person \nPlay three unique attractions. (Mini Golf\, Go-Kart\, Bumper Car\, Rope Course\, or Maze) \nUltimate Adventure – $29.95/person \nUNLIMITED Mini Golf\, Go-Karts\, Bumper Cars\, Rope Course\, and Maze \n 
URL:https://friendsforevercolorado.org/event/tuesday-night-summer-field-trips-2019-07-02-2019-07-09/
LOCATION:Adventure Golf\, 9650 Sheridan Blvd.\, Westminster\, CO\, 80031\, United States
CATEGORIES:Field Trips
ATTACH;FMTTYPE=:
END:VEVENT
BEGIN:VEVENT
DTSTART;TZID=America/Denver:20190702T180000
DTEND;TZID=America/Denver:20190702T200000
DTSTAMP:20260423T012534
CREATED:20190122T032350Z
LAST-MODIFIED:20190122T032350Z
UID:10000025-1562090400-1562097600@friendsforevercolorado.org
SUMMARY:Tuesday Night Summer Field Trips - Boondocks!
DESCRIPTION:Join us tonight at Boondock’s! \n$14 Buck Tues. & Thurs.\nEvery Tuesday and Thursday from open to close: \nOnly $14 per person\nUnlimited Laser Tag \, Bowling\, and Video Games* \nOutdoor Upgrade for additional $12 per person – open to close\nGo-Karts\, Slick Track\, Rookie Track\, Miniature Golf and Bumper Boats \n**PLEASE NOTE – The restaurant is closed until further notice. \n* Excludes Redemption Games \nCannot be combined with any other offer\, promotion or group.
URL:https://friendsforevercolorado.org/event/tuesday-night-summer-field-trips-2019-07-02/
LOCATION:Boondocks\, 11425 Community Center Drive\, Northglenn\, CO\, 80233\, United States
CATEGORIES:Field Trips
ATTACH;FMTTYPE=:
END:VEVENT
BEGIN:VEVENT
DTSTART;TZID=America/Denver:20190625T180000
DTEND;TZID=America/Denver:20190625T200000
DTSTAMP:20260423T012534
CREATED:20190122T032350Z
LAST-MODIFIED:20190122T032350Z
UID:10000024-1561485600-1561492800@friendsforevercolorado.org
SUMMARY:Tuesday Night Summer Field Trips - Fat Cats!
DESCRIPTION:Join us for a great night of bowling fun at Fat Cats Westminster. \n-Bowling is 99c per game\, we usually get two full games in.\n-Shoe rental is 2.50\n-Fat Cats also has food and drinks if anyone is interested in eating there tonight. Here is a link to the food menu with pricing https://www.fatcatsfun.com/westminster/food\n\nSee everyone tonight!\n 
URL:https://friendsforevercolorado.org/event/tuesday-night-summer-field-trips-2019-06-25/
LOCATION:Colorado
CATEGORIES:Field Trips
END:VEVENT
BEGIN:VEVENT
DTSTART;TZID=America/Denver:20190610T160000
DTEND;TZID=America/Denver:20190615T100000
DTSTAMP:20260423T012534
CREATED:20190122T032005Z
LAST-MODIFIED:20190122T032005Z
UID:10000020-1560182400-1560592800@friendsforevercolorado.org
SUMMARY:Summer Camp!
DESCRIPTION:We will be attending summer camp at Camp Eden again this year! \nRegistration begins on April 1\, 2019. $100 deposit is required to hold your spot.
URL:https://friendsforevercolorado.org/event/summer-camp/
LOCATION:Camp Eden\, 11583 Camp Eden Rd\, Golden\, CO\, 80504\, United States
CATEGORIES:Camp
ATTACH;FMTTYPE=:
ORGANIZER;CN="Jen Street":MAILTO:jenstreet70@gmail.com
END:VEVENT
BEGIN:VEVENT
DTSTART;TZID=America/Denver:20190603T180000
DTEND;TZID=America/Denver:20190603T200000
DTSTAMP:20260423T012534
CREATED:20190515T142243Z
LAST-MODIFIED:20190515T142243Z
UID:10000026-1559584800-1559592000@friendsforevercolorado.org
SUMMARY:Camp Training Session for Leaders - PLEASE BE PRESENT!
DESCRIPTION:CAMP TRAINING SESSION AND DEBRIEF FOR ALL YOU NEED TO KNOW FOR SUMMER CAMP!\nDINNER\nJACK’S AND STEAMERS\n8565 FIVE PARKS DR\n6 PM\n\nPLEASE PLEASE BE PRESENT…VERY IMPORTANT!
URL:https://friendsforevercolorado.org/event/camp-training-session-for-leaders-please-be-present/
LOCATION:Jack’s and Steamers\, 8565 FIVE PARKS DR\, Arvada\, CO\, 80005\, United States
CATEGORIES:Leaders
ORGANIZER;CN="Jen Street":MAILTO:jenstreet70@gmail.com
END:VEVENT
BEGIN:VEVENT
DTSTART;TZID=America/Denver:20190517T180000
DTEND;TZID=America/Denver:20190517T194500
DTSTAMP:20260423T012534
CREATED:20190122T032150Z
LAST-MODIFIED:20190122T032150Z
UID:10000021-1558116000-1558122300@friendsforevercolorado.org
SUMMARY:End of Club - Cinco de Mayo Party!
DESCRIPTION:Join us for the last Club night before summer!\nThis is a family event. We will have a pinata\, and a taco truck (bring money for the truck).\nDessert and drinks will be provided.
URL:https://friendsforevercolorado.org/event/beginning-of-summer-bbq/
LOCATION:Colorado
CATEGORIES:Club Night
ATTACH;FMTTYPE=:
ORGANIZER;CN="Jen Street":MAILTO:jenstreet70@gmail.com
END:VEVENT
BEGIN:VEVENT
DTSTART;TZID=UTC:20190516T180000
DTEND;TZID=UTC:20190516T191500
DTSTAMP:20260423T012534
CREATED:20190103T023815Z
LAST-MODIFIED:20190103T023815Z
UID:10000010-1558029600-1558034100@friendsforevercolorado.org
SUMMARY:Thursday Night Small Group Bible Study (Thornton)
DESCRIPTION:Please join us for dinner and fun while we study from the Jesus Story Bible. This meetup happens twice per month.
URL:https://friendsforevercolorado.org/event/thursday-night-small-group-bible-study-thornton-2019-01-31-2019-05-09/
LOCATION:Perkins – Thornton\, 12015 Melody Drive\, Thornton\, CO\, 80234\, United States
CATEGORIES:Bible Study
ORGANIZER;CN="Jen Street":MAILTO:jenstreet70@gmail.com
END:VEVENT
BEGIN:VEVENT
DTSTART;TZID=America/Denver:20190503T180000
DTEND;TZID=America/Denver:20190503T194500
DTSTAMP:20260423T012534
CREATED:20190122T031113Z
LAST-MODIFIED:20190122T031113Z
UID:10000018-1556906400-1556912700@friendsforevercolorado.org
SUMMARY:Club Night - Mickey Mouse Club!
DESCRIPTION:Join us tonight for pizza\, bingo and prizes!
URL:https://friendsforevercolorado.org/event/club-night-2-2019-05-03/
LOCATION:Broomfield Community Church\, 255 Miramonte Blvd.\, Broomfield\, Colorado\, 80020
CATEGORIES:Club Night
ATTACH;FMTTYPE=:
ORGANIZER;CN="Jen Street":MAILTO:jenstreet70@gmail.com
END:VEVENT
BEGIN:VEVENT
DTSTART;TZID=UTC:20190429T180000
DTEND;TZID=UTC:20190429T191500
DTSTAMP:20260423T012534
CREATED:20190103T023150Z
LAST-MODIFIED:20190103T023150Z
UID:10000004-1556560800-1556565300@friendsforevercolorado.org
SUMMARY:Monday Night Small Group Bible Study (Arvada)
DESCRIPTION:Please join us for dinner and fun while we study from the Jesus Story Bible. This meetup happens twice per month.
URL:https://friendsforevercolorado.org/event/monday-night-small-group-bible-study-arvada-2019-04-22/
LOCATION:Denny’s – Westminster\, 7201 Sheridan Blvd.\, Westminster\, CO\, 80003\, United States
CATEGORIES:Bible Study
ORGANIZER;CN="Jen Street":MAILTO:jenstreet70@gmail.com
END:VEVENT
BEGIN:VEVENT
DTSTART;TZID=UTC:20190425T180000
DTEND;TZID=UTC:20190425T191500
DTSTAMP:20260423T012534
CREATED:20190103T023815Z
LAST-MODIFIED:20190103T023815Z
UID:10000009-1556215200-1556219700@friendsforevercolorado.org
SUMMARY:Thursday Night Small Group Bible Study (Thornton)
DESCRIPTION:Please join us for dinner and fun while we study from the Jesus Story Bible. This meetup happens twice per month.
URL:https://friendsforevercolorado.org/event/thursday-night-small-group-bible-study-thornton-2019-01-31-2019-04-18/
LOCATION:Perkins – Thornton\, 12015 Melody Drive\, Thornton\, CO\, 80234\, United States
CATEGORIES:Bible Study
ORGANIZER;CN="Jen Street":MAILTO:jenstreet70@gmail.com
END:VEVENT
BEGIN:VEVENT
DTSTART;TZID=UTC:20190415T180000
DTEND;TZID=UTC:20190415T191500
DTSTAMP:20260423T012534
CREATED:20190103T023150Z
LAST-MODIFIED:20190103T023150Z
UID:10000003-1555351200-1555355700@friendsforevercolorado.org
SUMMARY:Monday Night Small Group Bible Study (Arvada)
DESCRIPTION:Please join us for dinner and fun while we study from the Jesus Story Bible. This meetup happens twice per month.
URL:https://friendsforevercolorado.org/event/monday-night-small-group-bible-study-arvada-2019-04-08/
LOCATION:Denny’s – Westminster\, 7201 Sheridan Blvd.\, Westminster\, CO\, 80003\, United States
CATEGORIES:Bible Study
ORGANIZER;CN="Jen Street":MAILTO:jenstreet70@gmail.com
END:VEVENT
BEGIN:VEVENT
DTSTART;TZID=America/Denver:20190413T180000
DTEND;TZID=America/Denver:20190413T200000
DTSTAMP:20260423T012534
CREATED:20190122T031259Z
LAST-MODIFIED:20190122T031259Z
UID:10000019-1555178400-1555185600@friendsforevercolorado.org
SUMMARY:2nd Annual Fundraising Banquet!
DESCRIPTION:Hey guys and dolls! \nBe-bop on down to a real hip diner – the Friends Diner. Dinner will be served and items will be available for auction.\nAnd we’ll catch some tunes performed by our very own Friends. \nDon’t be a square\, tickets are $40 each or $70 for a couple or consider our best deal  by purchasing a table of 8 for $250!
URL:https://friendsforevercolorado.org/event/2nd-annual-fundraising-banquet/
LOCATION:Broomfield Community Church\, 255 Miramonte Blvd.\, Broomfield\, Colorado\, 80020
CATEGORIES:Fundraising
ATTACH;FMTTYPE=:
ORGANIZER;CN="Jen Street":MAILTO:jenstreet70@gmail.com
END:VEVENT
BEGIN:VEVENT
DTSTART;TZID=America/Denver:20190412T180000
DTEND;TZID=America/Denver:20190412T194500
DTSTAMP:20260423T012534
CREATED:20190122T031113Z
LAST-MODIFIED:20190122T031113Z
UID:10000017-1555092000-1555098300@friendsforevercolorado.org
SUMMARY:Club Night!
DESCRIPTION:Join us for Club Night where we always have great fun and fellowship!  \nTonight we are doing build your own chicken salad bar for dinner!
URL:https://friendsforevercolorado.org/event/club-night-2-2019-04-12/
LOCATION:Broomfield Community Church\, 255 Miramonte Blvd.\, Broomfield\, Colorado\, 80020
CATEGORIES:Club Night
ORGANIZER;CN="Jen Street":MAILTO:jenstreet70@gmail.com
END:VEVENT
BEGIN:VEVENT
DTSTART;TZID=UTC:20190411T180000
DTEND;TZID=UTC:20190411T191500
DTSTAMP:20260423T012534
CREATED:20190103T023815Z
LAST-MODIFIED:20190103T023815Z
UID:10000008-1555005600-1555010100@friendsforevercolorado.org
SUMMARY:Thursday Night Small Group Bible Study (Thornton)
DESCRIPTION:Please join us for dinner and fun while we study from the Jesus Story Bible. This meetup happens twice per month.
URL:https://friendsforevercolorado.org/event/thursday-night-small-group-bible-study-thornton-2019-01-31-2019-04-04/
LOCATION:Perkins – Thornton\, 12015 Melody Drive\, Thornton\, CO\, 80234\, United States
CATEGORIES:Bible Study
ORGANIZER;CN="Jen Street":MAILTO:jenstreet70@gmail.com
END:VEVENT
BEGIN:VEVENT
DTSTART;TZID=America/Denver:20190322T180000
DTEND;TZID=America/Denver:20190322T194500
DTSTAMP:20260423T012534
CREATED:20190122T031113Z
LAST-MODIFIED:20190122T031113Z
UID:10000016-1553277600-1553283900@friendsforevercolorado.org
SUMMARY:Club Night - GREEN Club!
DESCRIPTION:Wear your green\, and we’ll have fun green food too! St. Patrick’s Day has passed but we are celebrating tonight!
URL:https://friendsforevercolorado.org/event/club-night-2-2019-03-22/
LOCATION:Broomfield Community Church\, 255 Miramonte Blvd.\, Broomfield\, Colorado\, 80020
CATEGORIES:Club Night
ATTACH;FMTTYPE=:
ORGANIZER;CN="Jen Street":MAILTO:jenstreet70@gmail.com
END:VEVENT
BEGIN:VEVENT
DTSTART;TZID=America/Denver:20190308T180000
DTEND;TZID=America/Denver:20190308T194500
DTSTAMP:20260423T012534
CREATED:20190122T031113Z
LAST-MODIFIED:20190122T031113Z
UID:10000015-1552068000-1552074300@friendsforevercolorado.org
SUMMARY:March Madness Club Night!
DESCRIPTION:It’s Club time again. Hope to see all of our friends there!\nWe plan to have Mexican for dinner. Come dressed as your favorite NCAA team if you want. March Madness is upon us.
URL:https://friendsforevercolorado.org/event/club-night-2-2019-03-08/
LOCATION:Broomfield Community Church\, 255 Miramonte Blvd.\, Broomfield\, Colorado\, 80020
CATEGORIES:Club Night
ORGANIZER;CN="Jen Street":MAILTO:jenstreet70@gmail.com
END:VEVENT
BEGIN:VEVENT
DTSTART;TZID=America/Denver:20190222T180000
DTEND;TZID=America/Denver:20190222T194500
DTSTAMP:20260423T012534
CREATED:20190122T031113Z
LAST-MODIFIED:20190122T031113Z
UID:10000014-1550858400-1550864700@friendsforevercolorado.org
SUMMARY:Club Night - Celebrating Chinese New Year!
DESCRIPTION:We are going to celebrate Chinese New Year a little bit late and have fun with the color red and eat some Chinese food. Hope to see you there.
URL:https://friendsforevercolorado.org/event/club-night-2-2019-02-22/
LOCATION:Broomfield Community Church\, 255 Miramonte Blvd.\, Broomfield\, Colorado\, 80020
CATEGORIES:Club Night
ATTACH;FMTTYPE=:
ORGANIZER;CN="Jen Street":MAILTO:jenstreet70@gmail.com
END:VEVENT
BEGIN:VEVENT
DTSTART;TZID=America/Denver:20190222T173000
DTEND;TZID=America/Denver:20190222T180000
DTSTAMP:20260423T012534
CREATED:20190208T040325Z
LAST-MODIFIED:20190208T040325Z
UID:10000023-1550856600-1550858400@friendsforevercolorado.org
SUMMARY:Banquet Practice Before Club
DESCRIPTION:Come to Club Night half an hour early to practice for the annual fundraising banquet that happens on April 13\, 2019.\nYour talent would be much appreciated so join us!
URL:https://friendsforevercolorado.org/event/banquet-practice-before-club/2019-02-22/
LOCATION:Broomfield Community Church\, 255 Miramonte Blvd.\, Broomfield\, Colorado\, 80020
CATEGORIES:Club Night
ORGANIZER;CN="Jen Street":MAILTO:jenstreet70@gmail.com
END:VEVENT
BEGIN:VEVENT
DTSTART;TZID=America/Denver:20190216T130000
DTEND;TZID=America/Denver:20190216T160000
DTSTAMP:20260423T012534
CREATED:20190208T034157Z
LAST-MODIFIED:20190208T034157Z
UID:10000022-1550322000-1550332800@friendsforevercolorado.org
SUMMARY:Saturday Movie Matinee 
DESCRIPTION:Saturday February 16th from 1 to 4 at the club church (Broomfield Community Church). We will show The Chronicles of Narnia:The Lion\, the Witch and the Wardrobe movie and provide pizza and drinks and Movie Snacks.\nHope to see you all on the 16th!!\n\n**The last 30 minutes of this time will be used to introduce the five songs that we are going to perform as the entertainment for our annual banquet. If your kiddo would like to be involved in that performance please have them attend Saturday so that we can get a good idea of who wants to do what. Thank you.
URL:https://friendsforevercolorado.org/event/movie-event/
LOCATION:Broomfield Community Church\, 255 Miramonte Blvd.\, Broomfield\, Colorado\, 80020
CATEGORIES:Special Events
ATTACH;FMTTYPE=:
ORGANIZER;CN="Jen Street":MAILTO:jenstreet70@gmail.com
END:VEVENT
BEGIN:VEVENT
DTSTART;TZID=America/Denver:20190208T180000
DTEND;TZID=America/Denver:20190208T210000
DTSTAMP:20260423T012534
CREATED:20190122T030535Z
LAST-MODIFIED:20190122T030535Z
UID:10000012-1549648800-1549659600@friendsforevercolorado.org
SUMMARY:Night To Shine!
DESCRIPTION:Night To Shine\n\n\nFebruary 8\, 2019 // 6:00 pm – 9:00 pm // Frederick Campus \n\nNight to Shine is an unforgettable prom night experience\, centered on God’s love\, for people with special needs\, ages 14 and older. The event will take place at more than 500 churches around the world simultaneously on February 8\, 2019. Our Frederick Campus is located at 5860 Majestic Street in Frederick.\n\nTo learn more and see all the churches that are a part of this worldwide movement\, check out www.timtebowfoundation.org.
URL:https://friendsforevercolorado.org/event/night-to-shine/
LOCATION:Rocky Mountain Christian Church\, 5860 Majestic Street\, Frederick\, CO\, 80504\, United States
CATEGORIES:Shine
ATTACH;FMTTYPE=:
ORGANIZER;CN="Jen Street":MAILTO:jenstreet70@gmail.com
END:VEVENT
BEGIN:VEVENT
DTSTART;TZID=UTC:20190131T180000
DTEND;TZID=UTC:20190131T191500
DTSTAMP:20260423T012534
CREATED:20190103T023815Z
LAST-MODIFIED:20190103T023815Z
UID:10000007-1548957600-1548962100@friendsforevercolorado.org
SUMMARY:Thursday Night Small Group Bible Study (Thornton)
DESCRIPTION:Please join us for dinner and fun while we study from the Jesus Story Bible. This meetup happens twice per month.
URL:https://friendsforevercolorado.org/event/thursday-night-small-group-bible-study-thornton-2019-01-31/2019-01-31/
LOCATION:Perkins – Thornton\, 12015 Melody Drive\, Thornton\, CO\, 80234\, United States
CATEGORIES:Bible Study
ORGANIZER;CN="Jen Street":MAILTO:jenstreet70@gmail.com
END:VEVENT
BEGIN:VEVENT
DTSTART;TZID=America/Denver:20190125T180000
DTEND;TZID=America/Denver:20190125T194500
DTSTAMP:20260423T012534
CREATED:20190122T031113Z
LAST-MODIFIED:20190122T031113Z
UID:10000013-1548439200-1548445500@friendsforevercolorado.org
SUMMARY:Club Night!
DESCRIPTION:Join us for Club Night where we always have great fun and fellowship! 
URL:https://friendsforevercolorado.org/event/club-night-2/2019-01-25/
LOCATION:Broomfield Community Church\, 255 Miramonte Blvd.\, Broomfield\, Colorado\, 80020
CATEGORIES:Club Night
ORGANIZER;CN="Jen Street":MAILTO:jenstreet70@gmail.com
END:VEVENT
END:VCALENDAR