BEGIN:VCALENDAR
VERSION:2.0
PRODID:-//Friends Forever Colorado - ECPv6.15.20//NONSGML v1.0//EN
CALSCALE:GREGORIAN
METHOD:PUBLISH
X-WR-CALNAME:Friends Forever Colorado
X-ORIGINAL-URL:https://friendsforevercolorado.org
X-WR-CALDESC:Events for Friends Forever Colorado
REFRESH-INTERVAL;VALUE=DURATION:PT1H
X-Robots-Tag:noindex
X-PUBLISHED-TTL:PT1H
BEGIN:VTIMEZONE
TZID:America/Denver
BEGIN:DAYLIGHT
TZOFFSETFROM:-0700
TZOFFSETTO:-0600
TZNAME:MDT
DTSTART:20190310T090000
END:DAYLIGHT
BEGIN:STANDARD
TZOFFSETFROM:-0600
TZOFFSETTO:-0700
TZNAME:MST
DTSTART:20191103T080000
END:STANDARD
BEGIN:DAYLIGHT
TZOFFSETFROM:-0700
TZOFFSETTO:-0600
TZNAME:MDT
DTSTART:20200308T090000
END:DAYLIGHT
BEGIN:STANDARD
TZOFFSETFROM:-0600
TZOFFSETTO:-0700
TZNAME:MST
DTSTART:20201101T080000
END:STANDARD
BEGIN:DAYLIGHT
TZOFFSETFROM:-0700
TZOFFSETTO:-0600
TZNAME:MDT
DTSTART:20210314T090000
END:DAYLIGHT
BEGIN:STANDARD
TZOFFSETFROM:-0600
TZOFFSETTO:-0700
TZNAME:MST
DTSTART:20211107T080000
END:STANDARD
BEGIN:DAYLIGHT
TZOFFSETFROM:-0700
TZOFFSETTO:-0600
TZNAME:MDT
DTSTART:20220313T090000
END:DAYLIGHT
BEGIN:STANDARD
TZOFFSETFROM:-0600
TZOFFSETTO:-0700
TZNAME:MST
DTSTART:20221106T080000
END:STANDARD
END:VTIMEZONE
BEGIN:VEVENT
DTSTART;TZID=America/Denver:20210702T180000
DTEND;TZID=America/Denver:20210702T200000
DTSTAMP:20260422T192707
CREATED:20210623T144237Z
LAST-MODIFIED:20210623T144237Z
UID:10000122-1625248800-1625256000@friendsforevercolorado.org
SUMMARY:Bowling at Chipper Lanes (**Note change of venue)!
DESCRIPTION:This Friday Friends Forever will be hosting a Bowling Night at Chipper Lanes! (please note we had to change locations from the previously announced location of Fat Cats). Chipper Lanes is located at 100 Nickel St. Broomfield\, CO 80020.\nWe will be bowling from 6pm-8pm. Friends Forever will be paying for your games and shoes! Please bring money if you would like to order food or play any of their video arcade games. Hope to see everyone on Friday!\n 
URL:https://friendsforevercolorado.org/event/bowling-at-fat-cats/
LOCATION:Chipper Lanes\, 100 Nickel Street\, Broomfield\, 80020
CATEGORIES:Field Trips
ATTACH;FMTTYPE=:
END:VEVENT
BEGIN:VEVENT
DTSTART;TZID=America/Denver:20210623T190000
DTEND;TZID=America/Denver:20210623T200000
DTSTAMP:20260422T192707
CREATED:20210623T145356Z
LAST-MODIFIED:20210623T145356Z
UID:10000129-1624474800-1624478400@friendsforevercolorado.org
SUMMARY:Zoom Bible Study!
DESCRIPTION:Zoom Bible study and hangout from 7pm-8pm. We will be sharing our favorite bible verses so please feel free to share yours as well! We also have some fun summer trivia!
URL:https://friendsforevercolorado.org/event/zoom-bible-study-3/
LOCATION:via Zoom
CATEGORIES:Bible Study,ZOOM Event
END:VEVENT
BEGIN:VEVENT
DTSTART;TZID=America/Denver:20210611T130000
DTEND;TZID=America/Denver:20210613T110000
DTSTAMP:20260422T192707
CREATED:20201209T153158Z
LAST-MODIFIED:20201209T153158Z
UID:10000097-1623416400-1623582000@friendsforevercolorado.org
SUMMARY:Summer Camp 2021 - Registration Now Open!
DESCRIPTION:We at Friends Forever are thrilled to announce that Summer Camp registration is open! We are returning to Camp Eden in Golden Colorado June 11th-13th\n\n\n\nWhat to expect:\nLot of Fun! We will be enjoying some beautiful hikes\, archery\, hatchet throwing\, talent show\, dance party\, fishing\, canoeing\, zip lining\, outdoor and indoor games and activities.  We will also have devotion time in the morning and a “Club” each evening in which we will have games\, skits\, sing our favorite songs and enjoy a bible lesson each night!\n\n\nSign Up:\nAttached are several forms (links below) —\n1. Camp Eden Registration Form\n2. FF-CO Camp Form\n3. Friends Forever Media release – (we would love to take pictures and video during camp to share on our website)\n4. Camp Scholarship Application\n\nAs we are transitioning back to in-person events we have also attached a General Activity Participation Agreement Form and Annual Medical Consent Form.\n\n\nPlease feel free to contact me if you have any questions at dbake1342@gmail.com or text/call at 717-658-5658. I am happy to stop by or to meet to pass along or collect paperwork and registrations.\nOr feel free to mail them to:\nFriends Forever Colorado.\nP.O. Box 740243\nArvada\, CO 80006\nI can not wait to spend an exciting weekend together sharing in God’s love and beauty\n\nThanks\,\nDan Baker\nFriends Forever Colorado \n\nFF-CO Camp Registration Form\nStandard Retreat Registration Form\nCamp Scholarship Application\nAnnual Medical Consent Release\nFriends Forever Media Release Form\nGeneral Activity Participation Agreement
URL:https://friendsforevercolorado.org/event/summer-camp-2021/
LOCATION:Camp Eden\, 11583 Camp Eden Rd\, Golden\, CO\, 80504\, United States
CATEGORIES:Camp
ATTACH;FMTTYPE=:
END:VEVENT
BEGIN:VEVENT
DTSTART;TZID=America/Denver:20210609T190000
DTEND;TZID=America/Denver:20210609T200000
DTSTAMP:20260422T192707
CREATED:20210609T144702Z
LAST-MODIFIED:20210609T144702Z
UID:10000121-1623265200-1623268800@friendsforevercolorado.org
SUMMARY:Zoom Picture Show!
DESCRIPTION:Friends Forever  will be hosting a Zoom Picture Show from 7pm to 8pm! If you would like please bring one or two of your favorite pictures – we would love to see some awesome and meaningful photos and hear the story behind them! \n   
URL:https://friendsforevercolorado.org/event/zoom-picture-show/
LOCATION:via Zoom
CATEGORIES:ZOOM Event
END:VEVENT
BEGIN:VEVENT
DTSTART;TZID=America/Denver:20210526T190000
DTEND;TZID=America/Denver:20210526T200000
DTSTAMP:20260422T192707
CREATED:20210526T131930Z
LAST-MODIFIED:20210526T131930Z
UID:10000120-1622055600-1622059200@friendsforevercolorado.org
SUMMARY:Weekly Zoom Hangout - Championship Bingo Challenge!
DESCRIPTION:Friends Forever will be hosting our weekly zoom hangout. Tonight will be the Championship of our Bingo Challenge! After some exciting games and last minute victories we will be crowing our winning team – Get ready some wild games of bingo!\nThe winners will be entered into the Friends Forever Bingo Hall of Fame.
URL:https://friendsforevercolorado.org/event/weekly-zoom-hangout-championship-bingo-challenge/
LOCATION:via Zoom
CATEGORIES:Online Hangout,ZOOM Event
END:VEVENT
BEGIN:VEVENT
DTSTART;TZID=America/Denver:20210519T190000
DTEND;TZID=America/Denver:20210519T200000
DTSTAMP:20260422T192707
CREATED:20210519T142730Z
LAST-MODIFIED:20210519T142730Z
UID:10000119-1621450800-1621454400@friendsforevercolorado.org
SUMMARY:Zoom Hangout and Bingo Finals!
DESCRIPTION:Friends Forever is hosting our weekly Zoom hangout! Everyone will have a chance to share with the group any updates on how things are going for you\, offer some prayer requests and take some time to lift each other up in prayer.\n\nAfter that we will continue our Bingo Championship: after a last second\, come from behind win last week we now have a tie! Bring your A-game and energy! It’s coming down to the wire.
URL:https://friendsforevercolorado.org/event/zoom-hangout-and-bingo-finals/
LOCATION:via Zoom
CATEGORIES:ZOOM Event
END:VEVENT
BEGIN:VEVENT
DTSTART;TZID=America/Denver:20210515T130000
DTEND;TZID=America/Denver:20210515T150000
DTSTAMP:20260422T192707
CREATED:20210511T140033Z
LAST-MODIFIED:20210511T140033Z
UID:10000117-1621083600-1621090800@friendsforevercolorado.org
SUMMARY:Hangout in the Grass - IN PERSON!
DESCRIPTION:We are thrilled to announce Friends Forever will be holding an in-person event this Saturday\, May 15th at the Broomfield Community Church from 1pm-3pm!! This event will be outside in the grass area next to the Church. After a long break and many many zooms we are so excited to be able to start gathering again and start transitioning back to in-person events.\n\nThis Saturday we will be hosting a “Hangout in the Grass” afternoon from 1pm-3pm. We will have some time to catch up and enjoy each other’s company\, some fun games that everyone can play if they want and wrapping things up with a Uno Tournament hosted by Mark Johnson!\n\nWe will be proving each person with a personal snack bag with water\, fruit and snacks to enjoy. We will have chairs and tables set up outside but feel free to bring a blanket or anything else you would like to sit on. Also feel free to bring personal snacks if you would like.\n\nPlease consider the safety of others and stay home if you are not feeling well. Masks are required in any indoor space so masks are required if you are entering the Church to use the restroom.\n\nBroomfield Community Church is located at 255 Miramonte Blvd\, Broomfield\, CO 80020\n\nIf you have any questions feel free to call at 717-658-5658 or email at dbake1342@gmail.com
URL:https://friendsforevercolorado.org/event/hangout-in-the-grass-in-person/
LOCATION:Broomfield Community Church\, 255 Miramonte Blvd.\, Broomfield\, Colorado\, 80020
CATEGORIES:Special Events
END:VEVENT
BEGIN:VEVENT
DTSTART;TZID=America/Denver:20210512T190000
DTEND;TZID=America/Denver:20210512T200000
DTSTAMP:20260422T192707
CREATED:20210512T150040Z
LAST-MODIFIED:20210512T150040Z
UID:10000118-1620846000-1620849600@friendsforevercolorado.org
SUMMARY:Bible Study - Zoom!
DESCRIPTION:Tonight Friends Forever will be hosting our weekly zoom from 7-8pm. Tonight I wanted to share some Spring themed Bible verses with everyone; and if anyone else wanted to share some of their favorite bible verses tonight please do so!\n\nAfter that is our Bingo Championship! After some intense battles we are entering into the Championship Round: Defeat the Leaders.\n\nTonight Mark will be calling the bingo numbers and your mission\, if you choose to accept it\, will be to try to get Bingo before any of the leaders do to secure the win for “Team Winners.”
URL:https://friendsforevercolorado.org/event/bible-study-zoom-10/
LOCATION:via Zoom
CATEGORIES:Bible Study,ZOOM Event
END:VEVENT
BEGIN:VEVENT
DTSTART;TZID=America/Denver:20210505T190000
DTEND;TZID=America/Denver:20210505T200000
DTSTAMP:20260422T192707
CREATED:20210505T163310Z
LAST-MODIFIED:20210505T163310Z
UID:10000116-1620241200-1620244800@friendsforevercolorado.org
SUMMARY:Guys and Gals Group Zoom!
DESCRIPTION:Since this is the 1st Wednesday of the month we will be having our guys and gal’s groups zoom starting at 7pm.\nFor both zooms it’s going to be “snack night” bring you favorite snack to show off to the group and enjoy!
URL:https://friendsforevercolorado.org/event/guys-and-gals-group-zoom/
LOCATION:via Zoom
CATEGORIES:ZOOM Event
END:VEVENT
BEGIN:VEVENT
DTSTART;TZID=America/Denver:20210428T190000
DTEND;TZID=America/Denver:20210428T200000
DTSTAMP:20260422T192707
CREATED:20210428T133120Z
LAST-MODIFIED:20210428T133120Z
UID:10000115-1619636400-1619640000@friendsforevercolorado.org
SUMMARY:Zoom Night - Pictionary and Bingo!
DESCRIPTION:Dan (the man) is out of town\, so Mae will be sharing a story as well as hosting a game of Pictionary that everyone can participate in. After that\, Mark will be playing a round of BINGO\, so bring your A-game.
URL:https://friendsforevercolorado.org/event/zoom-night-pictionary-and-bingo/
CATEGORIES:ZOOM Event
END:VEVENT
BEGIN:VEVENT
DTSTART;TZID=America/Denver:20210421T190000
DTEND;TZID=America/Denver:20210421T200000
DTSTAMP:20260422T192707
CREATED:20210421T142529Z
LAST-MODIFIED:20210421T142529Z
UID:10000114-1619031600-1619035200@friendsforevercolorado.org
SUMMARY:Game Night Zoom!
DESCRIPTION:Friends Forever will be hosting our weekly zoom hangout! We are having a game night: Mae will be leading us through a few rounds of a Pictionary / 20 questions style game to start the evening.\nAfter that Mark will be continuing the Bingo Challenge! Grab your bingo cards for this fun twist on bingo. Let’s see who takes the lead this week!
URL:https://friendsforevercolorado.org/event/game-night-zoom/
LOCATION:via Zoom
CATEGORIES:ZOOM Event
END:VEVENT
BEGIN:VEVENT
DTSTART;TZID=America/Denver:20210414T190000
DTEND;TZID=America/Denver:20210414T200000
DTSTAMP:20260422T192707
CREATED:20210414T133326Z
LAST-MODIFIED:20210414T133326Z
UID:10000113-1618426800-1618430400@friendsforevercolorado.org
SUMMARY:
DESCRIPTION:Friends Forever will be hosting our weekly Zoom hangout! For our time together we had a great idea suggested by our friend Scott. If you would like to share with the group a favorite experience you have had from church\, Sunday school\, club\, camp or how you met Jesus please feel free to share! Or if not\, no problem\, come join us to hear some cool stories!\n\nAfter that Mark will be continuing the Bingo Challenge! Grab your bingo cards for this fun twist on bingo.
URL:https://friendsforevercolorado.org/event/6304/
LOCATION:via Zoom
CATEGORIES:Bible Study,ZOOM Event
END:VEVENT
BEGIN:VEVENT
DTSTART;TZID=America/Denver:20210407T190000
DTEND;TZID=America/Denver:20210407T200000
DTSTAMP:20260422T192707
CREATED:20210407T161038Z
LAST-MODIFIED:20210407T161038Z
UID:10000112-1617822000-1617825600@friendsforevercolorado.org
SUMMARY:First Wednesday - Guys and Gals Zoom!
DESCRIPTION:It’s the first Wednesday of the month we will be having our guys and gal’s groups zoom.\nFor the ladies please bring a journal if you would like and get ready for a Spring themed evening!\nFor the guys we will be playing some I-Spy\, working a weekly prayer list and spending some time catching up!
URL:https://friendsforevercolorado.org/event/first-wednesday-guys-and-gals-zoom/
LOCATION:via Zoom
CATEGORIES:ZOOM Event
END:VEVENT
BEGIN:VEVENT
DTSTART;TZID=America/Denver:20210331T190000
DTEND;TZID=America/Denver:20210331T200000
DTSTAMP:20260422T192707
CREATED:20210330T153328Z
LAST-MODIFIED:20210330T153328Z
UID:10000111-1617217200-1617220800@friendsforevercolorado.org
SUMMARY:Zoom Bingo Challenge - Final Round!
DESCRIPTION:Friends Forever will be hosting our weekly Zoom starting at 7:00 p.m. This week we have two exciting activities planned. First Mark Johnson will be hosting our final round of our Bingo Challenge to see who will be crowned the winner!\nAfter that Mae Street has a special guest joining us for a follow-along drawing and art night ! She will be leading and teaching the group a fun art project. If you would like to participate please have some art supplies ready. You just need whatever pen/pencil/markers you would like and some paper.
URL:https://friendsforevercolorado.org/event/zoom-bingo-challenge-final-round/
LOCATION:via Zoom
CATEGORIES:ZOOM Event
END:VEVENT
BEGIN:VEVENT
DTSTART;TZID=America/Denver:20210324T190000
DTEND;TZID=America/Denver:20210324T200000
DTSTAMP:20260422T192707
CREATED:20210324T142132Z
LAST-MODIFIED:20210324T142132Z
UID:10000110-1616612400-1616616000@friendsforevercolorado.org
SUMMARY:Bible Study Zoom!
DESCRIPTION:We will be making a Prayer Request Board; everyone will have a chance to share some prayer requests and we will take some time to pray together tomorrow.\n\nWe have had a lot of requests for another round of Bingo so tomorrow bust those bingo cards out and dust them off! We will be playing several rounds of bingo and everyone will have the chance to win some cool prizes! Feel free to reprint or use the same cards from last time\, or let me know and I can send new cards.
URL:https://friendsforevercolorado.org/event/bible-study-zoom-9/
LOCATION:via Zoom
CATEGORIES:Bible Study
END:VEVENT
BEGIN:VEVENT
DTSTART;TZID=America/Denver:20210317T190000
DTEND;TZID=America/Denver:20210317T200000
DTSTAMP:20260422T192707
CREATED:20210316T170302Z
LAST-MODIFIED:20210316T170302Z
UID:10000109-1616007600-1616011200@friendsforevercolorado.org
SUMMARY:St. Paddy's Day Zoom - Bible Study!
DESCRIPTION:Friends Forever will be hosting our weekly Zoom and Bible Study! We will take some time to learn more about the life of St. Patrick and some amazing things that he did.\n\nAfter that we will have a St. Paddy Day party: feel free to wear your favorite St. Paddy’s Day outfit (or any type of green)\, we will have some St. Patrick’s Day themed icebreakers\, scavenger hunt\, a St. Paddy’s dance lesson\, and a raffle for three St. Paddy’s Day themed prizes.
URL:https://friendsforevercolorado.org/event/st-paddys-day-zoom-bible-study/
LOCATION:via Zoom
CATEGORIES:Bible Study,ZOOM Event
END:VEVENT
BEGIN:VEVENT
DTSTART;TZID=America/Denver:20210310T190000
DTEND;TZID=America/Denver:20210310T200000
DTSTAMP:20260422T192707
CREATED:20210309T211528Z
LAST-MODIFIED:20210309T211528Z
UID:10000108-1615402800-1615406400@friendsforevercolorado.org
SUMMARY:Bible Study - Game Night on Zoom!
DESCRIPTION:Friends Forever will be hosting our weekly Bible study and game night. This week we will be checking out Matthew 22:39 (You shall love your neighbor as yourself.)\n\nAfter that we will be playing Guess The Movie! I will be sharing clips of a variety of different movies and we will see who all can “guess the movie”. We will also have follow up questions for bonus points if you can name characters\, places\, etc.\, etc. about the movie or clip.
URL:https://friendsforevercolorado.org/event/bible-study-game-night-on-zoom/
CATEGORIES:Bible Study,ZOOM Event
END:VEVENT
BEGIN:VEVENT
DTSTART;TZID=America/Denver:20210303T190000
DTEND;TZID=America/Denver:20210303T200000
DTSTAMP:20260422T192707
CREATED:20210302T194328Z
LAST-MODIFIED:20210302T194328Z
UID:10000107-1614798000-1614801600@friendsforevercolorado.org
SUMMARY:Girls and Guys Small Groups - ZOOM!
DESCRIPTION:With this being the 1st Wednesday of the month we will be having our Guys and Girls Small Group Zooms.\nTomorrow the ladies will be doing a Pamper Night! Feel free to grab anything you would like to pamper yourself (i.e. nail polish\, face mask\, hair accessories\, etc.) and get ready for a fun evening!\n\nFor the guys we will be creating our own Superheroes! Think about what you would be like if you were a superhero? What would your powers be\, where would you live\, who would you save\, what would your name be? (Maybe Scott could draw some of our ideas?) And we can see what we can come up with!
URL:https://friendsforevercolorado.org/event/girls-and-guys-small-groups-zoom/
CATEGORIES:ZOOM Event
END:VEVENT
BEGIN:VEVENT
DTSTART;TZID=America/Denver:20210224T190000
DTEND;TZID=America/Denver:20210224T200000
DTSTAMP:20260422T192707
CREATED:20210224T145715Z
LAST-MODIFIED:20210224T145715Z
UID:10000106-1614193200-1614196800@friendsforevercolorado.org
SUMMARY:Bingo Night - Zoom!
DESCRIPTION:Back by popular demand\, Friends Forever will be hosting a Bingo Zoom Night! If you need new Bingo cards let Dan know (or you can reprint the cards from the previous games\, we will be using the same cards). We will start our zoom at 7pm and start our first Bingo game at 7:05.
URL:https://friendsforevercolorado.org/event/bingo-night-zoom/
LOCATION:via Zoom
CATEGORIES:ZOOM Event
END:VEVENT
BEGIN:VEVENT
DTSTART;TZID=America/Denver:20210217T190000
DTEND;TZID=America/Denver:20210217T200000
DTSTAMP:20260422T192707
CREATED:20210216T224345Z
LAST-MODIFIED:20210216T224345Z
UID:10000105-1613588400-1613592000@friendsforevercolorado.org
SUMMARY:Bible Study Zoom!
DESCRIPTION:Friends Forever will be hosting our weekly zoom Bible Study and hangout time. For our Bible Study time we will be looking at John 1:1-18 and discussing how we are all part of this big awesome family- God’s family!\n\nFor our hangout time we will be playing Random Charades! Each person can come up with a few different charades to act out for the group and we can take turns trying to guess what you are performing. We will also have a few rounds of Reverse Charades in which everyone but one person will act out something while that one person will try to guess. So feel free to come up with your own charades ideas\, Dan will also have suggestions ready if needed. Also if you want to just hangout and try to guess please feel free to do so
URL:https://friendsforevercolorado.org/event/bible-study-zoom-8/
LOCATION:via Zoom
CATEGORIES:Bible Study,ZOOM Event
END:VEVENT
BEGIN:VEVENT
DTSTART;TZID=America/Denver:20210210T190000
DTEND;TZID=America/Denver:20210210T200000
DTSTAMP:20260422T192707
CREATED:20210209T182025Z
LAST-MODIFIED:20210209T182025Z
UID:10000104-1612983600-1612987200@friendsforevercolorado.org
SUMMARY:Weekly Bible Study and Hangout Zoom!
DESCRIPTION:Friends Forever will be hosting our weekly bible study and hangout. In honor of Valentine’s day\, we will be looking at 1 Corinthians 13:1-8\, and v13\, Paul’s description of Christ like love!\n\nAfter that for our hangout time we will be playing “Stump the group” Each person (if they want to) will have a chance to try to stump the group with their own trivia style question. If you would like\, please come up with 1-3 trivia style questions to ask the group tomorrow (it can be about any subject you would like\, even yourself!). And if not please feel free to just hangout and try to help guess the answers!
URL:https://friendsforevercolorado.org/event/weekly-bible-study-and-hangout-zoom/
LOCATION:via Zoom
CATEGORIES:Bible Study,ZOOM Event
END:VEVENT
BEGIN:VEVENT
DTSTART;TZID=America/Denver:20210203T190000
DTEND;TZID=America/Denver:20210203T200000
DTSTAMP:20260422T192707
CREATED:20210202T233514Z
LAST-MODIFIED:20210202T233514Z
UID:10000103-1612378800-1612382400@friendsforevercolorado.org
SUMMARY:Girls and Guys Bible Studies - Zoom!
DESCRIPTION:Tonight is the 1st Wednesday of the month so Friends Forever will be hosting a girls bible study group and a guys bible study group at 7pm.\n\n-This week for the ladies their theme will be “Galentines Day” a Valentines themed evening!\n\n-This week for the guys their theme will be “Super Bowl Sunday” a super fun time to be had!
URL:https://friendsforevercolorado.org/event/girls-and-guys-bible-studies-zoom/
LOCATION:via Zoom
CATEGORIES:Bible Study,ZOOM Event
END:VEVENT
BEGIN:VEVENT
DTSTART;TZID=America/Denver:20210127T190000
DTEND;TZID=America/Denver:20210127T200000
DTSTAMP:20260422T192707
CREATED:20210127T212044Z
LAST-MODIFIED:20210127T212044Z
UID:10000102-1611774000-1611777600@friendsforevercolorado.org
SUMMARY:Zoom Bible Study!
DESCRIPTION:Friends Forever will be hosting our weekly Wednesday night zoom tonight from 7pm to 8pm. Mae Street\, will be hosting while our very own Dan “the man”  is out of town visiting family.\n\nTonight we will be having a study on the role that music played in the bible. After each person will have the chance to share their favorite song or musical artist. Come ready to share\, or just come to hangout!
URL:https://friendsforevercolorado.org/event/5631/
LOCATION:via Zoom
CATEGORIES:Bible Study,ZOOM Event
END:VEVENT
BEGIN:VEVENT
DTSTART;TZID=America/Denver:20210120T190000
DTEND;TZID=America/Denver:20210120T200000
DTSTAMP:20260422T192707
CREATED:20210121T223412Z
LAST-MODIFIED:20210121T223412Z
UID:10000101-1611169200-1611172800@friendsforevercolorado.org
SUMMARY:Bible Study Zoom!
DESCRIPTION:Fun Fact: did you know there are over 50 bible verses about dancing! Forever will be hosting our weekly zoom bible study and hang out. Tonight we will be looking at and studying some of the bible verses about dancing and how we can express our joy and love to God through dance.\n\nAfter our Bible Study  we will have a time for each person to show off their best dance moves! Feel free to use your own music or I can play some from my end but each person will have a chance to show off their favorite dance moves and dancing abilities! Or do you want to teach the group a dance or lead the group through a dance routine? We will end our time with a little dance party together. (No pressure- feel free to just join and watch if you want!)
URL:https://friendsforevercolorado.org/event/bible-study-zoom-7/
LOCATION:via Zoom
CATEGORIES:Bible Study,ZOOM Event
END:VEVENT
BEGIN:VEVENT
DTSTART;TZID=America/Denver:20210113T190000
DTEND;TZID=America/Denver:20210113T200000
DTSTAMP:20260422T192707
CREATED:20210113T200612Z
LAST-MODIFIED:20210113T200612Z
UID:10000100-1610564400-1610568000@friendsforevercolorado.org
SUMMARY:Bible Study Zoom!
DESCRIPTION:Friends Forever will be hosting our a Bible Study and Zoom hangout from 7pm to 8pm.\nWe will be looking over the Parable of the Great Banquet (Luke 14: 15-24).\n\nAfter our bible study we will be playing Winter Themed Scavenger Hunt! Everyone will be able to play if they would like to\, all the items are things that will be easy to find in your home or room. Or feel free to just hangout!
URL:https://friendsforevercolorado.org/event/bible-study-zoom-6/
LOCATION:via Zoom
CATEGORIES:Bible Study,ZOOM Event
END:VEVENT
BEGIN:VEVENT
DTSTART;TZID=America/Denver:20210106T190000
DTEND;TZID=America/Denver:20210106T200000
DTSTAMP:20260422T192707
CREATED:20210105T145517Z
LAST-MODIFIED:20210105T145517Z
UID:10000099-1609959600-1609963200@friendsforevercolorado.org
SUMMARY:Zoom Bible Study - Guys and Gals Groups
DESCRIPTION:Friends Forever will be hosting our 1st Wednesday night Bible Study and hangout zoom of 2021 on 1/6/21 at 7pm.\nThis week we will be having 2 separate zooms; one specifically for our gal friends and one specifically for our guy friends!\n\nThis week we will be having a Pajama Party zoom for the girls hosted by Mae Street. Ladies if you want to wear your favorite pajamas please feel free to do so!\n\nFor the guys we will be having a Sports Jersey Zoom- guys if you want to wear your favorite sports shirt or jersey please feel free to do so.
URL:https://friendsforevercolorado.org/event/zoom-bible-study-guys-and-gals-groups/
LOCATION:via Zoom
CATEGORIES:Bible Study,ZOOM Event
END:VEVENT
BEGIN:VEVENT
DTSTART;TZID=America/Denver:20210101T190000
DTEND;TZID=America/Denver:20210101T200000
DTSTAMP:20260422T192707
CREATED:20201231T230421Z
LAST-MODIFIED:20201231T230421Z
UID:10000098-1609527600-1609531200@friendsforevercolorado.org
SUMMARY:Zoom Bingo!
DESCRIPTION:I hope this holiday season has been fun and meaningful!\nThis Friday at 7pm Friends Forever will be hosting our 1st Zoom of 2021 and we will be playing New Years Bingo! If you need new Bingo cards let me know (or you can reprint the cards from the previous games\, we will be suing the same cards)\n\nWe will resume our weekly Wednesday night Bible Study and Hangout Zooms on 1.6.2021\n\nThanks\,\nDan
URL:https://friendsforevercolorado.org/event/zoom-bingo-3/
LOCATION:via Zoom
CATEGORIES:ZOOM Event
ATTACH;FMTTYPE=:
END:VEVENT
BEGIN:VEVENT
DTSTART;TZID=America/Denver:20201216T190000
DTEND;TZID=America/Denver:20201216T200000
DTSTAMP:20260422T192707
CREATED:20201209T152725Z
LAST-MODIFIED:20201209T152725Z
UID:10000096-1608145200-1608148800@friendsforevercolorado.org
SUMMARY:Friends Forever Zoom (Christmas! Week 2 of 2)
DESCRIPTION:Friends Forever will host a Christmas themed zoom bible study and hangout time! Come join us tomorrow for a reading and presentation of the Barrington Bunny! The classic Christmas story of how Barrington Bunny helped out his furry friends on Christmas eve.\n\nAfter that we will take some time to share our year end highlights and spread some Christmas cheer.
URL:https://friendsforevercolorado.org/event/friends-forever-zoom-christmas-week-2-of-2/
LOCATION:via Zoom
CATEGORIES:Bible Study,ZOOM Event
ATTACH;FMTTYPE=:
END:VEVENT
BEGIN:VEVENT
DTSTART;TZID=America/Denver:20201209T190000
DTEND;TZID=America/Denver:20201209T200000
DTSTAMP:20260422T192707
CREATED:20201209T152558Z
LAST-MODIFIED:20201209T152558Z
UID:10000095-1607540400-1607544000@friendsforevercolorado.org
SUMMARY:Friends Forever Zoom (Christmas! Week 1 of 2)
DESCRIPTION:Friends Forever will be hosting two Wednesdays of Christmas themed zooms! We will be looking over Luke 1:26-38 and talking about the time when Mary met the angel Gabriel.\nAfter our bible study we will be playing some Christmas trivia\, sharing what we are most excited for this year and taking some time to spread some Christmas cheer with each other!
URL:https://friendsforevercolorado.org/event/friends-forever-zoom-christmas-week-1-of-2/
LOCATION:via Zoom
CATEGORIES:Bible Study,ZOOM Event
ATTACH;FMTTYPE=:
END:VEVENT
BEGIN:VEVENT
DTSTART;TZID=America/Denver:20201202T190000
DTEND;TZID=America/Denver:20201202T200000
DTSTAMP:20260422T192707
CREATED:20201202T213725Z
LAST-MODIFIED:20201202T213725Z
UID:10000094-1606935600-1606939200@friendsforevercolorado.org
SUMMARY:Girls' and Guys' Group Zoom!
DESCRIPTION:We hope everyone had a fun and filling Thanksgiving! This week Friends Forever’s Zoom will be a little different. This week we will have a Girls Group Zoom and a Guy’s Group Zoom! These zooms will each take place this Wednesday at 7pm. Mae Street will be leading the girls time and Dan will be leading the guys time.\nIf everyone likes this idea we will start having a Girls and Guys Zoom on the 1st Wednesday of each month while keeping the other Wednesdays open to gather with the whole group!
URL:https://friendsforevercolorado.org/event/girls-and-guys-group-zoom/
CATEGORIES:Bible Study,ZOOM Event
END:VEVENT
END:VCALENDAR