BEGIN:VCALENDAR
VERSION:2.0
PRODID:-//Friends Forever Colorado - ECPv6.15.20//NONSGML v1.0//EN
CALSCALE:GREGORIAN
METHOD:PUBLISH
X-WR-CALNAME:Friends Forever Colorado
X-ORIGINAL-URL:https://friendsforevercolorado.org
X-WR-CALDESC:Events for Friends Forever Colorado
REFRESH-INTERVAL;VALUE=DURATION:PT1H
X-Robots-Tag:noindex
X-PUBLISHED-TTL:PT1H
BEGIN:VTIMEZONE
TZID:America/Denver
BEGIN:DAYLIGHT
TZOFFSETFROM:-0700
TZOFFSETTO:-0600
TZNAME:MDT
DTSTART:20230312T090000
END:DAYLIGHT
BEGIN:STANDARD
TZOFFSETFROM:-0600
TZOFFSETTO:-0700
TZNAME:MST
DTSTART:20231105T080000
END:STANDARD
BEGIN:DAYLIGHT
TZOFFSETFROM:-0700
TZOFFSETTO:-0600
TZNAME:MDT
DTSTART:20240310T090000
END:DAYLIGHT
BEGIN:STANDARD
TZOFFSETFROM:-0600
TZOFFSETTO:-0700
TZNAME:MST
DTSTART:20241103T080000
END:STANDARD
BEGIN:DAYLIGHT
TZOFFSETFROM:-0700
TZOFFSETTO:-0600
TZNAME:MDT
DTSTART:20250309T090000
END:DAYLIGHT
BEGIN:STANDARD
TZOFFSETFROM:-0600
TZOFFSETTO:-0700
TZNAME:MST
DTSTART:20251102T080000
END:STANDARD
BEGIN:DAYLIGHT
TZOFFSETFROM:-0700
TZOFFSETTO:-0600
TZNAME:MDT
DTSTART:20260308T090000
END:DAYLIGHT
BEGIN:STANDARD
TZOFFSETFROM:-0600
TZOFFSETTO:-0700
TZNAME:MST
DTSTART:20261101T080000
END:STANDARD
BEGIN:DAYLIGHT
TZOFFSETFROM:-0700
TZOFFSETTO:-0600
TZNAME:MDT
DTSTART:20270314T090000
END:DAYLIGHT
BEGIN:STANDARD
TZOFFSETFROM:-0600
TZOFFSETTO:-0700
TZNAME:MST
DTSTART:20271107T080000
END:STANDARD
END:VTIMEZONE
BEGIN:VTIMEZONE
TZID:UTC
BEGIN:STANDARD
TZOFFSETFROM:+0000
TZOFFSETTO:+0000
TZNAME:UTC
DTSTART:20240101T000000
END:STANDARD
END:VTIMEZONE
BEGIN:VEVENT
DTSTART;TZID=America/Denver:20260320T180000
DTEND;TZID=America/Denver:20260320T200000
DTSTAMP:20260421T182115
CREATED:20260228T223047Z
LAST-MODIFIED:20260228T223051Z
UID:10000218-1774029600-1774036800@friendsforevercolorado.org
SUMMARY:Club Night!
DESCRIPTION:Come and bring yourself and new friends!
URL:https://friendsforevercolorado.org/event/club-night-34/
LOCATION:Broomfield Community Church  @ 255 Miramonte Blvd\, Broomfield CO 80020
END:VEVENT
BEGIN:VEVENT
DTSTART;TZID=America/Denver:20260306T180000
DTEND;TZID=America/Denver:20260306T200000
DTSTAMP:20260421T182115
CREATED:20260228T222143Z
LAST-MODIFIED:20260228T222238Z
UID:10000217-1772820000-1772827200@friendsforevercolorado.org
SUMMARY:Club Night!
DESCRIPTION:Come join us for some pizza\, games\, bible study\, praise and friends!
URL:https://friendsforevercolorado.org/event/club-night-33/
LOCATION:Broomfield Community Church  @ 255 Miramonte Blvd\, Broomfield CO 80020
END:VEVENT
BEGIN:VEVENT
DTSTART;TZID=America/Denver:20260220T180000
DTEND;TZID=America/Denver:20260220T200000
DTSTAMP:20260421T182115
CREATED:20260119T190804Z
LAST-MODIFIED:20260119T190806Z
UID:10000216-1771610400-1771617600@friendsforevercolorado.org
SUMMARY:CLUB NIGHT
DESCRIPTION:Come Join us for Bible Study\, Worship and Games!
URL:https://friendsforevercolorado.org/event/club-night-32/
LOCATION:Broomfield Community Church\, 255 Miramonte Blvd.\, Broomfield\, Colorado\, 80020
END:VEVENT
BEGIN:VEVENT
DTSTART;TZID=America/Denver:20260206T180000
DTEND;TZID=America/Denver:20260206T200000
DTSTAMP:20260421T182115
CREATED:20260119T190410Z
LAST-MODIFIED:20260119T190413Z
UID:10000215-1770400800-1770408000@friendsforevercolorado.org
SUMMARY:CLUB NIGHT!
DESCRIPTION:Join us for some good times!
URL:https://friendsforevercolorado.org/event/club-night-31/
LOCATION:Broomfield Community Church  @ 255 Miramonte Blvd\, Broomfield CO 80020
END:VEVENT
BEGIN:VEVENT
DTSTART;TZID=America/Denver:20260116T180000
DTEND;TZID=America/Denver:20260116T200000
DTSTAMP:20260421T182115
CREATED:20260103T183203Z
LAST-MODIFIED:20260103T183441Z
UID:10000213-1768586400-1768593600@friendsforevercolorado.org
SUMMARY:Friends Forever Club
DESCRIPTION:Come join us for food\, fun and praise!
URL:https://friendsforevercolorado.org/event/friends-forever-club/
LOCATION:Broomfield Community Church  @ 255 Miramonte Blvd\, Broomfield CO 80020
END:VEVENT
BEGIN:VEVENT
DTSTART;TZID=America/Denver:20251219T180000
DTEND;TZID=America/Denver:20251219T200000
DTSTAMP:20260421T182115
CREATED:20251208T234854Z
LAST-MODIFIED:20251208T234856Z
UID:10000212-1766167200-1766174400@friendsforevercolorado.org
SUMMARY:Friends Forever Christmas Bash!
DESCRIPTION:Come join us for some Food\, Games\, Christmas Gift Exchange\, Worship and Bible Study!
URL:https://friendsforevercolorado.org/event/friends-forever-christmas-bash/
LOCATION:Broomfield Community Church  @ 255 Miramonte Blvd\, Broomfield CO 80020
END:VEVENT
BEGIN:VEVENT
DTSTART;TZID=America/Denver:20251121T180000
DTEND;TZID=America/Denver:20251121T200000
DTSTAMP:20260421T182115
CREATED:20251105T221522Z
LAST-MODIFIED:20251105T221525Z
UID:10000211-1763748000-1763755200@friendsforevercolorado.org
SUMMARY:Club Night! Bingo!
DESCRIPTION:Come eat and play Bingo! Win a prize!
URL:https://friendsforevercolorado.org/event/club-night-bingo/
LOCATION:Broomfield Community Church  @ 255 Miramonte Blvd\, Broomfield CO 80020
END:VEVENT
BEGIN:VEVENT
DTSTART;TZID=America/Denver:20251107T180000
DTEND;TZID=America/Denver:20251107T200000
DTSTAMP:20260421T182115
CREATED:20251105T220501Z
LAST-MODIFIED:20251105T220614Z
UID:10000210-1762538400-1762545600@friendsforevercolorado.org
SUMMARY:Club Night
DESCRIPTION:Come join us!
URL:https://friendsforevercolorado.org/event/club-night-30/
LOCATION:Broomfield Community Church  @ 255 Miramonte Blvd\, Broomfield CO 80020
END:VEVENT
BEGIN:VEVENT
DTSTART;TZID=America/Denver:20251017T180000
DTEND;TZID=America/Denver:20251017T200000
DTSTAMP:20260421T182115
CREATED:20251012T181549Z
LAST-MODIFIED:20251012T181550Z
UID:10000209-1760724000-1760731200@friendsforevercolorado.org
SUMMARY:Halloween Club!
DESCRIPTION:Come in your most fabulous costume\, we will have food\, candy and games!
URL:https://friendsforevercolorado.org/event/halloween-club/
LOCATION:Broomfield Community Church  @ 255 Miramonte Blvd\, Broomfield CO 80020
END:VEVENT
BEGIN:VEVENT
DTSTART;TZID=America/Denver:20251010T180000
DTEND;TZID=America/Denver:20251010T200000
DTSTAMP:20260421T182115
CREATED:20250908T232746Z
LAST-MODIFIED:20250908T232751Z
UID:10000208-1760119200-1760126400@friendsforevercolorado.org
SUMMARY:A HARVEST OF FRIENDS!
DESCRIPTION:FRIENDS FOREVER ANNUAL BANQUET
URL:https://friendsforevercolorado.org/event/a-harvest-of-friends/
ATTACH;FMTTYPE=image/jpeg:https://friendsforevercolorado.org/wp-content/uploads/2025/09/2025-Banquet-Flyer-copy.jpg
END:VEVENT
BEGIN:VEVENT
DTSTART;TZID=America/Denver:20251003T180000
DTEND;TZID=America/Denver:20251003T200000
DTSTAMP:20260421T182115
CREATED:20250905T210855Z
LAST-MODIFIED:20250905T210919Z
UID:10000207-1759514400-1759521600@friendsforevercolorado.org
SUMMARY:Club Night!
DESCRIPTION:Come join us to decorate some pumpkins that we will donate for our auction!
URL:https://friendsforevercolorado.org/event/club-night-29/
LOCATION:Broomfield Community Church\, 255 Miramonte Blvd.\, Broomfield\, Colorado\, 80020
ATTACH;FMTTYPE=image/jpeg:https://friendsforevercolorado.org/wp-content/uploads/2025/09/freshly-harvested-vibrant-orange-pumpkins-perfect-for-fall-festivities-and-display.-735540-scaled.jpg
END:VEVENT
BEGIN:VEVENT
DTSTART;TZID=America/Denver:20250919T180000
DTEND;TZID=America/Denver:20250919T200000
DTSTAMP:20260421T182115
CREATED:20250905T205936Z
LAST-MODIFIED:20250905T210025Z
UID:10000206-1758304800-1758312000@friendsforevercolorado.org
SUMMARY:Club Night!
DESCRIPTION:Broomfield Community Church
URL:https://friendsforevercolorado.org/event/club-night-28/
LOCATION:Broomfield Community Church\, 255 Miramonte Blvd.\, Broomfield\, Colorado\, 80020
ATTACH;FMTTYPE=image/jpeg:https://friendsforevercolorado.org/wp-content/uploads/2025/09/majestic-silhouette-of-a-cross-on-a-hill-during-a-vivid-sunset-symbolizing-spirituality.-415571-scaled.jpg
END:VEVENT
BEGIN:VEVENT
DTSTART;TZID=America/Denver:20250905T180000
DTEND;TZID=America/Denver:20250905T200000
DTSTAMP:20260421T182115
CREATED:20250905T205238Z
LAST-MODIFIED:20250905T205242Z
UID:10000205-1757095200-1757102400@friendsforevercolorado.org
SUMMARY:Club is back!
DESCRIPTION:Come Join us for Pizza\, Praise\, Games and Friends
URL:https://friendsforevercolorado.org/event/club-is-back/
ATTACH;FMTTYPE=image/png:https://friendsforevercolorado.org/wp-content/uploads/2025/01/favicon.png
END:VEVENT
BEGIN:VEVENT
DTSTART;TZID=America/Denver:20250821T153000
DTEND;TZID=America/Denver:20250824T123000
DTSTAMP:20260421T182115
CREATED:20250427T023115Z
LAST-MODIFIED:20250511T230012Z
UID:10000202-1755790200-1756038600@friendsforevercolorado.org
SUMMARY:Camp 2025!!!!
DESCRIPTION:SAVE THE DATE!!!!!!!! MORE INFORMATION TO COME. \n\n\n\n\n\n\n\n\n\n\n\n\n\n\n\nFF-CO Camp Registration Form 2025Download\n\n\n\nAnnual Medical Consent & Release (5)\n\n\n\nregistration information FFDownload\n\n\n\nFriends Forever Media Release Form (2)Download\n\n\n\nGeneral Activity Participation AgreementDownload\n\n\n\nFriends Forever New Schlorship form – edited (1)Download
URL:https://friendsforevercolorado.org/event/camp-2025/
LOCATION:YMCA IN ESTES PARK
ATTACH;FMTTYPE=image/jpeg:https://friendsforevercolorado.org/wp-content/uploads/2025/04/cozy-campfire-against-a-mountain-backdrop-at-twilight-in-valea-draganului-romania.-1061640-scaled.jpg
END:VEVENT
BEGIN:VEVENT
DTSTART;TZID=America/Denver:20250621T170000
DTEND;TZID=America/Denver:20250621T200000
DTSTAMP:20260421T182115
CREATED:20250427T025839Z
LAST-MODIFIED:20250519T000859Z
UID:10000203-1750525200-1750536000@friendsforevercolorado.org
SUMMARY:Come Join US for Swimming & Pot Luck
DESCRIPTION:There is a sign-up sheet for food for pot luck under events
URL:https://friendsforevercolorado.org/event/pot-luck/
LOCATION:Boulder\, CO See email for address and phone number
ATTACH;FMTTYPE=image/jpeg:https://friendsforevercolorado.org/wp-content/uploads/2025/05/friends-having-fun-and-jumping-into-a-pool-at-a-resort-on-a-sunny-summer-day-enjoying-their-vacation.-7294534-scaled.jpg
END:VEVENT
BEGIN:VEVENT
DTSTART;TZID=America/Denver:20250621T120000
DTEND;TZID=America/Denver:20250621T120000
DTSTAMP:20260421T182115
CREATED:20250512T021001Z
LAST-MODIFIED:20250519T001600Z
UID:10000204-1750507200-1750507200@friendsforevercolorado.org
SUMMARY:Pot Luck Sign-Up Food Sheet
DESCRIPTION:Come Join us for some food and swimming!
URL:https://friendsforevercolorado.org/event/pot-luck-sign-up-food-sheet/
END:VEVENT
BEGIN:VEVENT
DTSTART;TZID=America/Denver:20250516T180000
DTEND;TZID=America/Denver:20250516T200000
DTSTAMP:20260421T182115
CREATED:20250427T021051Z
LAST-MODIFIED:20250427T024349Z
UID:10000201-1747418400-1747425600@friendsforevercolorado.org
SUMMARY:Club Night! Emotions part 2
DESCRIPTION:
URL:https://friendsforevercolorado.org/event/club-night-27/
LOCATION:Broomfield Community Church  @ 255 Miramonte Blvd\, Broomfield CO 80020
ATTACH;FMTTYPE=image/jpeg:https://friendsforevercolorado.org/wp-content/uploads/2025/04/uplifting-christian-message-with-daisies-a-cross-and-motivational-words-against-anxiety.-8383666-scaled.jpg
END:VEVENT
BEGIN:VEVENT
DTSTART;TZID=America/Denver:20250502T180000
DTEND;TZID=America/Denver:20250502T200000
DTSTAMP:20260421T182115
CREATED:20250426T231819Z
LAST-MODIFIED:20250427T024647Z
UID:10000199-1746208800-1746216000@friendsforevercolorado.org
SUMMARY:Club Night! EMOTIONS PART 1
DESCRIPTION:
URL:https://friendsforevercolorado.org/event/club-night-25/
LOCATION:Broomfield Community Church  @ 255 Miramonte Blvd\, Broomfield CO 80020
ATTACH;FMTTYPE=image/jpeg:https://friendsforevercolorado.org/wp-content/uploads/2025/04/torn-papers-with-an-uplifting-quote-emphasizing-healing-and-overcoming-anxiety-and-stress.-8383669-scaled.jpg
END:VEVENT
BEGIN:VEVENT
DTSTART;TZID=America/Denver:20250416T180000
DTEND;TZID=America/Denver:20250416T200000
DTSTAMP:20260421T182115
CREATED:20250427T015253Z
LAST-MODIFIED:20250427T015256Z
UID:10000200-1744826400-1744833600@friendsforevercolorado.org
SUMMARY:Club Night!
DESCRIPTION:Emotions Part 2
URL:https://friendsforevercolorado.org/event/club-night-26/
LOCATION:Broomfield Community Church  @ 255 Miramonte Blvd\, Broomfield CO 80020
ATTACH;FMTTYPE=image/jpeg:https://friendsforevercolorado.org/wp-content/uploads/2025/04/uplifting-christian-message-with-daisies-a-cross-and-motivational-words-against-anxiety.-8383666-scaled.jpg
END:VEVENT
BEGIN:VEVENT
DTSTART;TZID=America/Denver:20250411T180000
DTEND;TZID=America/Denver:20250411T200000
DTSTAMP:20260421T182115
CREATED:20250407T210838Z
LAST-MODIFIED:20250407T210840Z
UID:10000198-1744394400-1744401600@friendsforevercolorado.org
SUMMARY:Club Night!!
DESCRIPTION:The Easter Story
URL:https://friendsforevercolorado.org/event/club-night-24/
LOCATION:Broomfield Community Church  @ 255 Miramonte Blvd\, Broomfield CO 80020
END:VEVENT
BEGIN:VEVENT
DTSTART;TZID=America/Denver:20250321T180000
DTEND;TZID=America/Denver:20250321T200000
DTSTAMP:20260421T182115
CREATED:20250305T141328Z
LAST-MODIFIED:20250305T141903Z
UID:10000195-1742580000-1742587200@friendsforevercolorado.org
SUMMARY:On Obedience
DESCRIPTION:
URL:https://friendsforevercolorado.org/event/obedience/
END:VEVENT
BEGIN:VEVENT
DTSTART;TZID=America/Denver:20250307T180000
DTEND;TZID=America/Denver:20250307T200000
DTSTAMP:20260421T182115
CREATED:20250305T141208Z
LAST-MODIFIED:20250305T141211Z
UID:10000194-1741370400-1741377600@friendsforevercolorado.org
SUMMARY:Ten Commandments
DESCRIPTION:
URL:https://friendsforevercolorado.org/event/ten-commandments/
END:VEVENT
BEGIN:VEVENT
DTSTART;TZID=UTC:20250221T180000
DTEND;TZID=UTC:20250221T200000
DTSTAMP:20260421T182115
CREATED:20250116T221125Z
LAST-MODIFIED:20250116T221126Z
UID:10000193-1740160800-1740168000@friendsforevercolorado.org
SUMMARY:Pajama night
DESCRIPTION:Bible Study: Rest in Jesus
URL:https://friendsforevercolorado.org/event/pajama-night/
LOCATION:Broomfield Community Church\, 255 Miramonte Blvd.\, Broomfield\, Colorado\, 80020
END:VEVENT
BEGIN:VEVENT
DTSTART;TZID=UTC:20250207T180000
DTEND;TZID=UTC:20250207T200000
DTSTAMP:20260421T182115
CREATED:20250116T220658Z
LAST-MODIFIED:20250116T221011Z
UID:10000192-1738951200-1738958400@friendsforevercolorado.org
SUMMARY:Valentine’s Day Celebration
DESCRIPTION:Bible study: Love of Christ
URL:https://friendsforevercolorado.org/event/valentines-day-celebration/
LOCATION:Broomfield Community Church\, 255 Miramonte Blvd\, Broomfield\, CO\, 80020\, United States
END:VEVENT
BEGIN:VEVENT
DTSTART;TZID=America/Denver:20241206T180000
DTEND;TZID=America/Denver:20241206T200000
DTSTAMP:20260421T182115
CREATED:20241107T224106Z
LAST-MODIFIED:20241107T224106Z
UID:10000191-1733508000-1733515200@friendsforevercolorado.org
SUMMARY:No Club\, will be at Discovery Church for Christmas Karaoke
DESCRIPTION:If you would  like your club member to join us you must go to Discovery Church website and sign you club member up. I( Elizabeth) and Tami will be there so I can help keep an eye on members but transportation will be club members/parents/providers responsibility.
URL:https://friendsforevercolorado.org/event/no-club-will-be-at-discovery-church-for-christmas-karaoke/
END:VEVENT
BEGIN:VEVENT
DTSTART;TZID=America/Denver:20241115T180000
DTEND;TZID=America/Denver:20241115T200000
DTSTAMP:20260421T182115
CREATED:20241107T222927Z
LAST-MODIFIED:20241107T222927Z
UID:10000190-1731693600-1731700800@friendsforevercolorado.org
SUMMARY:Bingo Club Night
DESCRIPTION:Come Join us for a meal\, Bingo and Prizes\, Bible lesson and some songs.
URL:https://friendsforevercolorado.org/event/bingo-club-night/
END:VEVENT
BEGIN:VEVENT
DTSTART;TZID=America/Denver:20241004T180000
DTEND;TZID=America/Denver:20241004T210000
DTSTAMP:20260421T182115
CREATED:20240827T011714Z
LAST-MODIFIED:20240827T011714Z
UID:10000189-1728064800-1728075600@friendsforevercolorado.org
SUMMARY:That's Amore!
DESCRIPTION:Celebrating Community and Friendship… \n\n\n\n\n\nFriends Forever Annual Banquet
URL:https://friendsforevercolorado.org/event/thats-amore/
END:VEVENT
BEGIN:VEVENT
DTSTART;TZID=America/Denver:20240906T180000
DTEND;TZID=America/Denver:20240906T200000
DTSTAMP:20260421T182115
CREATED:20240826T005451Z
LAST-MODIFIED:20240826T005451Z
UID:10000188-1725645600-1725652800@friendsforevercolorado.org
SUMMARY:Club Night!
DESCRIPTION:Come Join us for a night of fun!  Enjoy a meal\, some games\, friends\, worship\, songs and a bible lesson
URL:https://friendsforevercolorado.org/event/club-night-23/
END:VEVENT
BEGIN:VEVENT
DTSTART;TZID=America/Denver:20240718T180000
DTEND;TZID=America/Denver:20240718T210000
DTSTAMP:20260421T182115
CREATED:20240708T232824Z
LAST-MODIFIED:20240708T232824Z
UID:10000187-1721325600-1721336400@friendsforevercolorado.org
SUMMARY:Bowling at Chippers!
DESCRIPTION:Join us for a night of bowling fun at Chippers Lanes!
URL:https://friendsforevercolorado.org/event/bowling-at-chippers/
LOCATION:Chipper Lanes\, 100 Nickel Street\, Broomfield\, 80020
CATEGORIES:Field Trips
ATTACH;FMTTYPE=:
END:VEVENT
BEGIN:VEVENT
DTSTART;TZID=America/Denver:20240614T190000
DTEND;TZID=America/Denver:20240614T220000
DTSTAMP:20260421T182115
CREATED:20240530T171342Z
LAST-MODIFIED:20240530T171342Z
UID:10000186-1718391600-1718402400@friendsforevercolorado.org
SUMMARY:Field Trip - Minions: Rise of Gru
DESCRIPTION:We will be having our first summer outing on June 14th 7pm to see Minions:The Rise of Gru at Westminster High School. Please meet out front of the school at 6pm. ***Please note that leaders can no longer provide transportation to and from events.*** \n\n\n\nThings to bring: Snacks\, drinks\, blankets\, jacket\, lawn chairs. \n\n\n\nPick up time is 10pm. I will stay until everyone is picked up!  \n\n\n\n***Clubbers need to stay with the group or have a leader with them at all times *** \n\n\n\nWe could always use parents/caregivers for this event! More eyes means safer environment! 
URL:https://friendsforevercolorado.org/event/field-trip-minions-rise-of-gru/
ATTACH;FMTTYPE=:
END:VEVENT
END:VCALENDAR