BEGIN:VCALENDAR
VERSION:2.0
PRODID:-//Friends Forever Colorado - ECPv6.15.20//NONSGML v1.0//EN
CALSCALE:GREGORIAN
METHOD:PUBLISH
X-WR-CALNAME:Friends Forever Colorado
X-ORIGINAL-URL:https://friendsforevercolorado.org
X-WR-CALDESC:Events for Friends Forever Colorado
REFRESH-INTERVAL;VALUE=DURATION:PT1H
X-Robots-Tag:noindex
X-PUBLISHED-TTL:PT1H
BEGIN:VTIMEZONE
TZID:America/Denver
BEGIN:DAYLIGHT
TZOFFSETFROM:-0700
TZOFFSETTO:-0600
TZNAME:MDT
DTSTART:20190310T090000
END:DAYLIGHT
BEGIN:STANDARD
TZOFFSETFROM:-0600
TZOFFSETTO:-0700
TZNAME:MST
DTSTART:20191103T080000
END:STANDARD
BEGIN:DAYLIGHT
TZOFFSETFROM:-0700
TZOFFSETTO:-0600
TZNAME:MDT
DTSTART:20200308T090000
END:DAYLIGHT
BEGIN:STANDARD
TZOFFSETFROM:-0600
TZOFFSETTO:-0700
TZNAME:MST
DTSTART:20201101T080000
END:STANDARD
BEGIN:DAYLIGHT
TZOFFSETFROM:-0700
TZOFFSETTO:-0600
TZNAME:MDT
DTSTART:20210314T090000
END:DAYLIGHT
BEGIN:STANDARD
TZOFFSETFROM:-0600
TZOFFSETTO:-0700
TZNAME:MST
DTSTART:20211107T080000
END:STANDARD
END:VTIMEZONE
BEGIN:VEVENT
DTSTART;TZID=America/Denver:20200207T180000
DTEND;TZID=America/Denver:20200207T210000
DTSTAMP:20260424T190108
CREATED:20191021T215004Z
LAST-MODIFIED:20191021T215004Z
UID:10000054-1581098400-1581109200@friendsforevercolorado.org
SUMMARY:Night to Shine!
DESCRIPTION:Registration is now open for Night to Shine! \nMembers are attending either NOCO in Ft. Collins or Frederick locations\, so get yourself registered soon because they both fill up fast. \nFor NOCO at Timberline Church in Ft. Collins\, you can register here: REGISTER – NOCO \nFor Rocky Mountain Christian Church in Frederick\, you can register here: REGISTER – FREDERICK \nBoth locations are from 6:00-9:00 p.m. \nFor more information on the Tim Tebow Foundation\, click here: Tim Tebow Foundation \n 
URL:https://friendsforevercolorado.org/event/night-to-shine-2/
LOCATION:CO
CATEGORIES:Shine
ATTACH;FMTTYPE=:
END:VEVENT
END:VCALENDAR